Workbook

Sheet Б.П.
A1: Меню - требование | I1: =накладная!I1 -> Утверждаю: 05 декабря 2025г
A3: калькуляционная карточка | I3: Директор МБОУ"КСШ"___________Антропова Л.Л.
A5: Сборник рецептур блюд ШОУ 2018г | I5: Заборный лист:
A6: Учащиеся с 1 по 4 класс
A7: количество детей: чел.
A8: наименование: | D8: на 1 пор.гр | E8: кол-во | F8: цена | G8: цена | H8: сумма | I8: наименование: | M8: кол-во | N8: цена | P8: сумма
A9: Горячий завтрак (1) | D9: 70/30 | E9: ТК№187 | I9: =A11 -> мясо | M9: =E11 -> 0 | O9: =F11 -> 500 | P9: =M9*O9 -> 0
A10: Кнели из говядины | D10: 100 | E10: 200 | I10: =A12 -> хлеб | M10: =E12 -> 0 | O10: =F12 -> 0 | P10: =M10*O10 -> 0
A11: мясо | D11: 0,08/0,06 | F11: 500 | H11: =E11*F11 -> 0 | I11: =A15 -> соус; | M11: =E15+E32 -> 3.52 | N11: =F15 -> 0 | O11: =F15 -> 0 | P11: =M11*O11 -> 0
A12: хлеб | D12: 0.006 | I12: =A13 -> молоко | M12: =E13 -> 0 | O12: =F13 -> 113 | P12: =M12*O12 -> 0
A13: молоко | D13: 0.03 | F13: 113 | H13: =E13*F13 -> 0 | I13: =A14 -> яйца | M13: =E14 -> 0 | N13: =F14 -> 65 | O13: =F14 -> 65 | P13: =M13*O13 -> 0
A14: яйца | D14: 0.004 | F14: 65 | H14: =E14*F14 -> 0 | I14: =A29 -> капуста свежая | M14: =E29 -> 11.2 | O14: =F29 -> 45 | P14: =M14*O14 -> 504
A15: соус; | D15: 0.03 | I15: =A16 -> молоко | M15: =E16 -> 0 | N15: =F16 -> 0 | O15: =F16 -> 0 | P15: =M15*O15 -> 0
A16: молоко | D16: 0.03 | I16: =A23 -> сухофрукты | M16: =E23+E37 -> 4.4 | O16: =F23 -> 156 | P16: =M16*O16 -> 686.4
A17: мука | D17: 1.5 | I17: =A30 -> Зелёный горошек | M17: =E30 -> 7.43 | N17: =F30 -> 185.88 | O17: =F30 -> 185.88 | P17: =M17*O17 -> 1381.0884
A18: масло сливочное | D18: 1.5 | H18: =E18*F18 -> 0 | I18: =A41 -> 0 | M18: =E41 -> 0 | N18: =F41 -> 0 | O18: =F41 -> 0 | P18: =M18*O18 -> 0
A19: Рис отварной | D19: 150 | E19: ТК№224 | I19: =A24 -> сахар | M19: =E24 -> 4.8 | O19: =F24 -> 75 | P19: =M19*O19 -> 360
A20: Рис. | D20: 0.054 | I20: =A17 -> мука | M20: =E17+E34 -> 1.32 | O20: =F17 -> 0 | P20: =M20*O20 -> 0
A21: =A34 -> масло растительное | D21: 0.004 | I21: =A26 -> хлеб | M21: =E26 -> 8.4 | O21: =F26 -> 62.86 | P21: =M21*O21 -> 528.024
A22: Компот из сухофруктов | E22: ТК№302 | I22: =A27 -> хлеб | M22: =E27 -> 3 | O22: =F27 -> 78.33 | P22: =M22*O22 -> 234.99
A23: сухофрукты | D23: 0.025 | E23: 4.4 | F23: 156 | H23: =E23*F23 -> 686.4 | I23: =A40 -> 0 | M23: =E40 -> 0 | O23: =F40 -> 0 | P23: =M23*O23 -> 0
A24: сахар | D24: 0.02 | E24: 4.8 | F24: 75 | H24: =E24*F24 -> 360 | I24: =A35 -> соль | M24: =E35 -> 1 | O24: =F35 -> 20 | P24: =M24*O24 -> 20
I25: =A36 -> печенье | M25: =E36 -> 0 | N25: =F36 -> 221.1 | O25: =F36 -> 221.1 | P25: =M25*O25 -> 0
A26: хлеб | D26: 0.025 | E26: 8.4 | F26: 62.86 | G26: 42.86 | H26: =E26*F26 -> 528.024
A27: хлеб | D27: 0.025 | E27: 3 | F27: 78.33 | G27: 53.33 | H27: =E27*F27 -> 234.99 | P27: =SUM(P9:P26) -> 3714.5024 | R27: =H42-P27 -> 0
A28: Салат из капусты с зелёным горошком | D28: 80 | E28: ТК№09
A29: капуста свежая | D29: 66 | E29: 11.2 | F29: 45 | H29: =E29*F29 -> 504
A30: Зелёный горошек | D30: 20 | E30: 7.43 | F30: 185.88 | G30: ='[1]ноябрь 2025г'!$BK$17 -> 0 | H30: =E30*F30 -> 1381.0884
A32: лук репчатый | D32: 16 | E32: 3.52 | F32: =F15 -> 0 | H32: =E32*F32 -> 0
A33: огурцы свежие | D33: 10 | H33: =E33*F33 -> 0
A34: масло растительное | D34: 6 | E34: 1.32 | F34: =F17 -> 0 | H34: =E34*F34 -> 0
A35: соль | D35: 0.001 | E35: 1 | F35: 20 | H35: =E35*F35 -> 20 | R35: =H38/E10 -> 18.572512
A36: печенье | D36: =E36/E10 -> 0 | E36: 0 | F36: 221.1 | H36: =E36*F36 -> 0 | I36: шеф повар:
H38: =SUM(H11:H37) -> 3714.5024
F42: итого: | H42: =H38+H40+H41 -> 3714.5024

Sheet накладная
A1: МБОУ"Красноборская средняя школа" | I1: Утверждаю: 05 декабря 2025г
I3: Директор МБОУ"КСШ"___________Антропова Л.Л.
C7: Накладная
E8: =I1 -> Утверждаю: 05 декабря 2025г
A9: кому: КУХНЯ
A10: От кого; | B10: Антонова Н.А.
F11: кг | G11: кг | H11: кг | I11: кг | J11: кг | K11: кг | L11: кг
A12: №п/п | B12: Наименование: | F12: Б.П. | G12: Д.П. | H12: ОВЗ | I12: ГПД | J12: сво | L12: выпечка | M12: итого | N12: цена | O12: цена | P12: цена
A13: 1 | B13: =Д.П.!I9 -> макароны | G13: =Д.П.!M9 -> 1 | H13: 1.7 | I13: 0.338 | J13: 0.3 | M13: =F13+G13+H13+I13+J13+K13+L13 -> 3.338 | N13: =Д.П.!N9 -> 50.98 | P13: =M13*N13 -> 170.17124
A14: 2 | B14: макароны | H14: 1.5 | I14: 0.75 | J14: 0.54 | M14: =F14+G14+H14+I14+J14+K14+L14 -> 2.79 | N14: 59 | P14: =M14*N14 -> 164.61
A15: 3 | B15: =Д.П.!I10 -> картофель | G15: =Д.П.!M10 -> 13.5 | H15: 4.35 | I15: 2.1 | J15: 1.9 | M15: =F15+G15+H15+I15+J15+K15+L15 -> 21.85 | N15: =Д.П.!N10 -> 30 | P15: =M15*N15 -> 655.5
A16: 4 | B16: =Д.П.!I11 -> лук репчатый | F16: 5.72 | G16: =Д.П.!M11 -> 0.66 | H16: 0.94 | I16: 0.43 | J16: 0.35 | M16: =F16+G16+H16+I16+J16+K16+L16 -> 8.1 | N16: =Д.П.!N11 -> 55 | P16: =M16*N16 -> 445.5
A17: 5 | B17: =Д.П.!I12 -> морковь | F17: 3.441 | G17: =Д.П.!M12 -> 0 | H17: 1.125 | I17: 0.48 | J17: 0.35 | M17: =F17+G17+H17+I17+J17+K17+L17 -> 5.396 | N17: =Д.П.!N12 -> 65 | P17: =M17*N17 -> 350.74
A18: 6 | B18: =Д.П.!I13 -> масло растительное | F18: 2.86 | G18: =Д.П.!M13 -> 1.7 | H18: 0.595 | I18: 0.25 | J18: 0.15 | M18: =F18+G18+H18+I18+J18+K18+L18 -> 5.555 | N18: =Д.П.!N13 -> 0 | P18: =M18*N18 -> 0
A19: 7 | B19: =Д.П.!I14 -> мясо | F19: 31.46 | G19: =Д.П.!M14 -> 3.81 | H19: 0.918 | I19: 0.135 | J19: 0.35 | M19: =F19+G19+H19+I19+J19+K19+L19 -> 36.673 | N19: =Д.П.!N14 -> 500 | P19: =M19*N19 -> 18336.5
A20: 8 | B20: =Д.П.!I15 -> кура | G20: =Д.П.!M15 -> 3 | H20: 2 | I20: 0.5 | J20: 0.5 | M20: =F20+G20+H20+I20+J20+K20+L20 -> 6 | N20: =Д.П.!N15 -> 474 | P20: =M20*N20 -> 2844
A21: 9 | B21: =Д.П.!I16 -> яйцо столовое | G21: =Д.П.!M16 -> 4 | H21: 3 | I21: 1 | J21: 1 | M21: =F21+G21+H21+I21+J21+K21+L21 -> 9 | N21: =Д.П.!N16 -> 7 | P21: =M21*N21 -> 63
A22: 10 | B22: =Д.П.!I17 -> мука | G22: =Д.П.!M17 -> 3.3 | M22: =F22+G22+H22+I22+J22+K22+L22 -> 3.3 | N22: =Д.П.!N17 -> 39 | P22: =M22*N22 -> 128.7
A23: 11 | B23: =Д.П.!I18 -> молоко сухое | G23: =Д.П.!M18 -> 1.2 | M23: =F23+G23+H23+I23+J23+K23+L23 -> 1.2 | N23: =Д.П.!N18 -> 507.42 | P23: =M23*N23 -> 608.904
A24: 12 | B24: =Д.П.!I19 -> масло сливочное | G24: =Д.П.!M19 -> 0 | H24: 0 | M24: =F24+G24+H24+I24+J24+K24+L24 -> 0 | N24: =Д.П.!N19 -> 975.5 | P24: =M24*N24 -> 0
A25: 13 | B25: =Д.П.!I20 -> дрожжи | G25: =Д.П.!M20 -> 0.05 | M25: =F25+G25+H25+I25+J25+K25+L25 -> 0.05 | N25: =Д.П.!N20 -> 158 | P25: =M25*N25 -> 7.9
A26: 14 | B26: =Д.П.!I21 -> сахар | F26: 4.8 | G26: =Д.П.!M21 -> 4.6 | H26: 0.68 | I26: 0.3 | J26: 0.25 | M26: =F26+G26+H26+I26+J26+K26+L26 -> 10.63 | N26: =Д.П.!N21 -> 75 | P26: =M26*N26 -> 797.25
A27: 15 | B27: =Д.П.!I22 -> молоко сгущёное | G27: =Д.П.!M22 -> 1 | I27: 0.4 | M27: =F27+G27+H27+I27+J27+K27+L27 -> 1.4 | N27: =Д.П.!N22 -> 348.65 | P27: =M27*N27 -> 488.11
A28: 16 | B28: огурцы консервированные | G28: =Д.П.!M23 -> 0 | H28: 0.5 | I28: 0.2 | J28: 0.1 | M28: =F28+G28+H28+I28+J28+K28+L28 -> 0.8 | N28: 400 | P28: =M28*N28 -> 320
A29: 17 | B29: =Д.П.!I24 -> зелень | G29: =Д.П.!M24 -> 0.13 | H29: 0 | M29: =F29+G29+H29+I29+J29+K29+L29 -> 0.13 | N29: =Д.П.!N24 -> 290 | P29: =M29*N29 -> 37.7
A30: 18 | B30: =Д.П.!I25 -> сельдь. | G30: =Д.П.!M25 -> 0 | M30: =F30+G30+H30+I30+J30+K30+L30 -> 0 | N30: =Д.П.!N25 -> 434 | P30: =M30*N30 -> 0
A31: 19 | B31: =Д.П.!I26 -> майонез | G31: =Д.П.!M26 -> 2.45 | M31: =F31+G31+H31+I31+J31+K31+L31 -> 2.45 | N31: =Д.П.!N26 -> 264.57 | P31: =M31*N31 -> 648.1965
A32: 20 | B32: =Д.П.!I27 -> чай | G32: =Д.П.!M27 -> 200 | M32: =F32+G32+H32+I32+J32+K32+L32 -> 200 | N32: =Д.П.!N27 -> 1.8 | P32: =M32*N32 -> 360
A33: 21 | B33: компотная смесь | G33: =Д.П.!M28 -> 0 | H33: 0.68 | I33: 0.3 | J33: 0.25 | M33: =F33+G33+H33+I33+J33+K33+L33 -> 1.23 | N33: 230 | P33: =M33*N33 -> 282.9
A34: 22 | B34: =Д.П.!I29 -> сыр | G34: =Д.П.!M29 -> 2.5 | M34: =F34+G34+H34+I34+J34+K34+L34 -> 2.5 | N34: =Д.П.!N29 -> 744.4 | P34: =M34*N34 -> 1861
A35: 23 | B35: =Д.П.!I30 -> соль | F35: 1 | G35: =Д.П.!M30 -> 1 | M35: =F35+G35+H35+I35+J35+K35+L35 -> 2 | N35: =Д.П.!N30 -> 20 | P35: =M35*N35 -> 40
A36: 24 | B36: =Д.П.!I31 -> свекла | G36: =Д.П.!M31 -> 5.22 | M36: =F36+G36+H36+I36+J36+K36+L36 -> 5.22 | N36: =Д.П.!N31 -> 55 | P36: =M36*N36 -> 287.1
A37: 25 | B37: рис | F37: 9.9 | G37: =Д.П.!M32 -> 0 | M37: =F37+G37+H37+I37+J37+K37+L37 -> 9.9 | N37: 113 | P37: =M37*N37 -> 1118.7
A38: 26 | B38: капуста свежая | F38: 11.2 | G38: =Д.П.!M33 -> 0 | M38: =F38+G38+H38+I38+J38+K38+L38 -> 11.2 | N38: 45 | P38: =M38*N38 -> 504
A39: 27 | B39: томат паста | F39: 0.4 | G39: =Д.П.!M34 -> 0 | M39: =F39+G39+H39+I39+J39+K39+L39 -> 0.4 | N39: 260 | P39: =M39*N39 -> 104
A40: 28 | B40: сухофрукты | F40: 4.4 | G40: =Д.П.!M35 -> 0 | M40: =F40+G40+H40+I40+J40+K40+L40 -> 4.4 | N40: 156 | P40: =M40*N40 -> 686.4
A41: 29 | B41: Зелёный горошек | F41: 7.43 | G41: =Д.П.!M36 -> 0 | M41: =F41+G41+H41+I41+J41+K41+L41 -> 7.43 | N41: 185.88 | P41: =M41*N41 -> 1381.0884
A42: 29 | B42: =Д.П.!I37 -> выпечка | G42: =Д.П.!M37 -> 40 | I42: 10 | M42: =F42+G42+H42+I42+J42+K42+L42 -> 50 | N42: =Д.П.!N37 -> 12 | P42: =M42*N42 -> 600
A43: 30 | B43: =Д.П.!I38 -> выпечка | G43: =Д.П.!M38 -> 50 | M43: =F43+G43+H43+I43+J43+K43+L43 -> 50 | N43: =Д.П.!N38 -> 55 | P43: =M43*N43 -> 2750 | R43: =СВО!O27 -> 681.404
A44: 31 | B44: йогурт | F44: 220 | G44: =Д.П.!M39 -> 0 | H44: 30 | M44: =F44+G44+H44+I44+J44+K44+L44 -> 250 | N44: 38.96 | P44: =M44*N44 -> 9740 | R44: =ГПД!O29 -> 1057.6912
A45: 32 | B45: хлеб | F45: 8.4 | G45: =Д.П.!M40 -> 0 | M45: =F45+G45+H45+I45+J45+K45+L45 -> 8.4 | N45: 62.86 | P45: =M45*N45 -> 528.024 | R45: =ОВЗ!O27 -> 2265.891
A46: 33 | B46: хлеб | F46: 3 | G46: =Д.П.!M41 -> 0 | M46: =F46+G46+H46+I46+J46+K46+L46 -> 3 | N46: 78.33 | P46: =M46*N46 -> 234.99 | R46: =Б.П.!P27 -> 3714.5024
A47: 34 | B47: яблоки свежие | F47: 35.18 | G47: =Д.П.!M42 -> 0 | M47: =F47+G47+H47+I47+J47+K47+L47 -> 35.18 | N47: 145 | P47: =M47*N47 -> 5101.1 | R47: =Д.П.!O43 -> 11730.431
A48: 35 | B48: печенье | F48: 4 | G48: =Д.П.!M43 -> 0 | M48: =F48+G48+H48+I48+J48+K48+L48 -> 4 | N48: 221.1 | P48: =M48*N48 -> 884.4 | R48: =SUM(R43:R47) -> 19449.919 | S48: =P50-R48 -> 33216.465
A49: 36 | B49: какао | I49: 0.1 | M49: =F49+G49+H49+I49+J49+K49+L49 -> 0.1 | N49: 1359 | P49: =M49*N49 -> 135.9
P50: =SUM(P13:P49) -> 52666.384
S73: =выпечка!M19 -> 2568.4
S74: =#REF! -> #REF!
S75: =СВО!O26 -> 0
S76: =Д.П.!O43 -> 11730.431
S77: =Б.П.!P27 -> 3714.5024
S78: =SUM(S73:S77) -> #REF! | T78: =P50-S78 -> #REF!

Sheet ОВЗ
A1: Меню - требование | I1: =Б.П.!I1 -> Утверждаю: 05 декабря 2025г
A3: калькуляционная карточка | I3: Директор МБОУ"КСШ"___________Антропова Л.Л.
A5: Сборник рецептур блюд ШОУ 2018г | I5: Заборный лист:
A6: Дети с ОВЗ (бесплатное питание)
A7: чел.
A8: наименование: | D8: на 1 пор.гр | E8: кол-во | F8: цена | G8: сумма | I8: наименование: | M8: кол-во | N8: цена | O8: сумма
I9: =A9 -> 0 | M9: =E9 -> 0 | N9: =F9 -> 0 | O9: =M9*N9 -> 0
A10: Йогурт | D10: 0.125 | E10: 30 | F10: =Б.П.!F41 -> 0 | G10: =E10*F10 -> 0 | I10: =A10 -> Йогурт | M10: =E10 -> 30 | N10: =F10 -> 0 | O10: =M10*N10 -> 0
I11: =A14 -> макароны | M11: =E14 -> 1.7 | N11: =F14 -> 50.98 | O11: =M11*N11 -> 86.666
A12: Обед; | H12: 30 пор | I12: макароны | M12: =E22 -> 1.5 | N12: =F22 -> 59 | O12: =M12*N12 -> 88.5
A13: Суп картофельный с макаронами | D13: 250 | F13: ТК№ 47 | I13: =A15 -> картофель | M13: =E15+E25 -> 4.35 | N13: =F15 -> 30 | O13: =M13*N13 -> 130.5
A14: макароны | D14: 25 | E14: 1.7 | F14: 50.98 | G14: =E14*F14 -> 86.666 | I14: =A16 -> лук репчатый | M14: =E16+E28+E33 -> 0.94 | N14: =F16 -> 55 | O14: =M14*N14 -> 51.7
A15: картофель | D15: 100 | E15: 3 | F15: 30 | G15: =E15*F15 -> 90 | I15: =A18 -> масло растительное | M15: =E18+E30+E34 -> 0.595 | N15: =F18 -> 0 | O15: =M15*N15 -> 0
A16: лук репчатый | D16: 12.5 | E16: 0.42 | F16: 55 | G16: =E16*F16 -> 23.1 | I16: =A19 -> зелень | M16: =E19 -> 0 | N16: =F19 -> 290 | O16: =M16*N16 -> 0
A17: морковь | D17: 12.5 | E17: 0.425 | F17: 65 | G17: =E17*F17 -> 27.625 | I17: =A20 -> мясо говядина | M17: =E20 -> 0.918 | N17: =F20 -> 500 | O17: =M17*N17 -> 459
A18: масло растительное | D18: 5 | E18: 0.17 | F18: =Б.П.!F17 -> 0 | G18: =E18*F18 -> 0 | I18: =A23 -> масло сливочное | M18: =E23 -> 0 | N18: =F23 -> 975.5 | O18: =M18*N18 -> 0
A19: зелень | D19: 0.004 | E19: 0 | F19: 290 | G19: =E19*F19 -> 0 | I19: =A17 -> морковь | M19: =E17+E26 -> 1.125 | N19: =F17 -> 65 | O19: =M19*N19 -> 73.125
A20: мясо говядина | D20: 27 | E20: 0.918 | F20: 500 | G20: =E20*F20 -> 459 | I20: =A32 -> кура | M20: =E32 -> 2 | N20: =F32 -> 474 | O20: =M20*N20 -> 948
A21: Макароны отварные | D21: 150 | F21: ТК№224 | I21: =A37 -> компотная смесь | M21: =E37 -> 0.68 | N21: =F37 -> 230 | O21: =M21*N21 -> 156.4
A22: макароны | D22: 54 | E22: 1.5 | F22: 59 | G22: =E22*F22 -> 88.5 | I22: =A38 -> сахар | M22: =E38 -> 0.68 | N22: =F38 -> 75 | O22: =M22*N22 -> 51
A23: масло сливочное | D23: 6.75 | E23: 0 | F23: 975.5 | G23: =E23*F23 -> 0 | I23: =A29 -> зелёный горошек | M23: =E29 -> 0 | N23: =F29 -> 205 | O23: =M23*N23 -> 0
A24: Салат овощной | D24: 80 | F24: ТК№14 | I24: =A27 -> солёный огурец | M24: =E27 -> 0.5 | N24: =F27 -> 400 | O24: =M24*N24 -> 200
A25: картофель | D25: 40 | E25: 1.35 | F25: 30 | G25: =E25*F25 -> 40.5 | I25: =A35 -> яйцо отварное | M25: =E35 -> 3 | N25: =F35 -> 7 | O25: =M25*N25 -> 21
A26: морковь | D26: 20 | E26: 0.7 | F26: =F17 -> 65 | G26: =E26*F26 -> 45.5 | P26: =G39-O27 -> 0
A27: солёный огурец | D27: 20 | E27: 0.5 | F27: 400 | G27: =E27*F27 -> 200 | O27: =SUM(O9:O26) -> 2265.891
A28: лук репчатый | D28: 10 | E28: 0.35 | F28: =F16 -> 55 | G28: =E28*F28 -> 19.25
A29: зелёный горошек | D29: 25 | E29: 0 | F29: 205 | G29: =E29*F29 -> 0
A30: масло растительное | D30: 5 | E30: 0.175 | F30: =F18 -> 0 | G30: =E30*F30 -> 0 | I30: шеф повар:
A31: Биточки куринные | F31: ТК№209
A32: кура | D32: 145/52 | E32: 2 | F32: ='[1]ноябрь 2025г'!$BJ$107 -> 474 | G32: =E32*F32 -> 948
A33: лук репчатый | D33: 5 | E33: 0.17 | F33: =F16 -> 55 | G33: =E33*F33 -> 9.35
A34: масло растительное | D34: 8 | E34: 0.25 | F34: =F18 -> 0 | G34: =E34*F34 -> 0
A35: яйцо отварное | D35: 0.004 | E35: 3 | F35: 7 | G35: =E35*F35 -> 21
A36: Компот | D36: 200 | F36: ТК №282
A37: компотная смесь | D37: 20 | E37: 0.68 | F37: 230 | G37: =E37*F37 -> 156.4
A38: сахар | D38: 20 | E38: 0.68 | F38: 75 | G38: =E38*F38 -> 51
G39: =SUM(G9:G38) -> 2265.891
G40: 34
G41: =G39/G40 -> 66.643853

Sheet ГПД
A1: Меню - требование | H1: =ОВЗ!I1 -> Утверждаю: 05 декабря 2025г
A3: калькуляционная карточка | I3: Директор МБОУ"КСШ"___________Антропова Л.Л.
A5: Сборник рецептур блюд ШОУ 2018г | H5: Заборный лист:
A6: Дети " ВНЕУРОЧКА"
A7: чел
A8: наименование: | D8: на 1 пор.гр | E8: кол-во | F8: цена | G8: сумма | H8: наименование: | L8: кол-во | M8: кол во | N8: цена | O8: сумма
A9: Обед;
A10: Суп картофельный с макаронами | D10: 250 | F10: ТК№ 47 | I10: =A41 -> какао | M10: =E41 -> 0.1 | N10: =F41 -> 1359 | O10: =M10*N10 -> 135.9
A11: макароны | D11: 25 | E11: 0.338 | F11: =ОВЗ!F14 -> 50.98 | G11: =E11*F11 -> 17.23124 | I11: =A11 -> макароны | M11: =E11 -> 0.338 | N11: =F11 -> 50.98 | O11: =M11*N11 -> 17.23124
A12: картофель | D12: 100 | E12: 1.5 | F12: =ОВЗ!F15 -> 30 | G12: =E12*F12 -> 45 | H12: 30 пор | I12: макароны | M12: =E19 -> 0.75 | N12: =F19 -> 59 | O12: =M12*N12 -> 44.25
A13: лук репчатый | D13: 12.5 | E13: 0.18 | F13: =ОВЗ!F16 -> 55 | G13: =E13*F13 -> 9.9 | I13: =A12 -> картофель | M13: =E12+E22 -> 2.1 | N13: =F12 -> 30 | O13: =M13*N13 -> 63
A14: морковь | D14: 12.5 | E14: 0.18 | F14: =ОВЗ!F17 -> 65 | G14: =E14*F14 -> 11.7 | I14: =A13 -> лук репчатый | M14: =E13+E25+E30 -> 0.43 | N14: =F13 -> 55 | O14: =M14*N14 -> 23.65
A15: масло растительное | D15: 5 | E15: 0.075 | F15: =ОВЗ!F18 -> 0 | G15: =E15*F15 -> 0 | I15: =A15 -> масло растительное | M15: =E15+E27+E31 -> 0.25 | N15: =F15 -> 0 | O15: =M15*N15 -> 0
A16: зелень | D16: 0.004 | E16: 0 | F16: =ОВЗ!F19 -> 290 | G16: =E16*F16 -> 0 | I16: =A16 -> зелень | M16: =E16 -> 0 | N16: =F16 -> 290 | O16: =M16*N16 -> 0
A17: мясо говядина | D17: 27 | E17: 0.135 | F17: =ОВЗ!F20 -> 500 | G17: =E17*F17 -> 67.5 | I17: =A17 -> мясо говядина | M17: =E17 -> 0.135 | N17: =F17 -> 500 | O17: =M17*N17 -> 67.5
A18: Макароны отварные | D18: 150 | F18: ТК№224 | I18: =A20 -> масло сливочное | M18: =E20 -> 0 | N18: =F20 -> 975.5 | O18: =M18*N18 -> 0
A19: макароны | D19: 54 | E19: 0.75 | F19: =ОВЗ!F22 -> 59 | G19: =E19*F19 -> 44.25 | I19: =A14 -> морковь | M19: =E14+E23 -> 0.48 | N19: =F14 -> 65 | O19: =M19*N19 -> 31.2
A20: масло сливочное | D20: 6.75 | E20: 0 | F20: 975.5 | G20: =E20*F20 -> 0 | I20: =A29 -> кура | M20: =E29 -> 0.5 | N20: =F29 -> 474 | O20: =M20*N20 -> 237
A21: Салат овощной | D21: 80 | F21: ТК№14 | I21: =A34 -> компотная смесь | M21: =E34 -> 0.3 | N21: =F34 -> 230 | O21: =M21*N21 -> 69
A22: картофель | D22: 40 | E22: 0.6 | F22: =ОВЗ!F25 -> 30 | G22: =E22*F22 -> 18 | I22: =A35 -> сахар | M22: =E35 -> 0.3 | N22: =F35 -> 75 | O22: =M22*N22 -> 22.5
A23: морковь | D23: 20 | E23: 0.3 | F23: =ОВЗ!F26 -> 65 | G23: =E23*F23 -> 19.5 | I23: =A26 -> зелёный горошек | M23: =E26 -> 0 | N23: =F26 -> 205 | O23: =M23*N23 -> 0
A24: солёный огурец | D24: 20 | E24: 0.2 | F24: =ОВЗ!F27 -> 400 | G24: =E24*F24 -> 80 | I24: =A38 -> выпечка | M24: =E38 -> 10 | N24: =F38 -> 12 | O24: =M24*N24 -> 120
A25: лук репчатый | D25: 10 | E25: 0.15 | F25: =ОВЗ!F28 -> 55 | G25: =E25*F25 -> 8.25 | I25: =A32 -> яйцо отварное | M25: =E32 -> 1 | N25: =F32 -> 7 | O25: =M25*N25 -> 7
A26: зелёный горошек | D26: 25 | E26: 0 | F26: =ОВЗ!F29 -> 205 | G26: =E26*F26 -> 0 | I26: =A42 -> молоко сгущёное | M26: =E42 -> 0.4 | N26: =F42 -> 348.65 | O26: =M26*N26 -> 139.46
A27: масло растительное | D27: 5 | E27: 0.075 | F27: =ОВЗ!F30 -> 0 | G27: =E27*F27 -> 0 | I27: =A39 -> повидло | M27: =E39 -> 0 | N27: =F39 -> 126 | O27: =M27*N27 -> 0
A28: Биточки куринные | F28: ТК№209 | I28: =A24 -> солёный огурец | M28: =E24 -> 0.2 | N28: =F24 -> 400 | O28: =M28*N28 -> 80
A29: кура | D29: 145/52 | E29: 0.5 | F29: =ОВЗ!F32 -> 474 | G29: =E29*F29 -> 237 | O29: =SUM(O9:O28) -> 1057.6912 | P29: =G44-O29 -> 0
A30: лук репчатый | D30: 5 | E30: 0.1 | F30: =ОВЗ!F33 -> 55 | G30: =E30*F30 -> 5.5 | N30: 1.4 | O30: =O29*N30 -> 1480.7677
A31: масло растительное | D31: 8 | E31: 0.1 | F31: =ОВЗ!F34 -> 0 | G31: =E31*F31 -> 0 | O31: =O30-O29 -> 423.0765
A32: яйцо отварное | D32: 0.004 | E32: 1 | F32: =ОВЗ!F35 -> 7 | G32: =E32*F32 -> 7 | I32: шеф повар:
A33: =ОВЗ!A36 -> Компот | D33: 200 | F33: ТК №282
A34: =ОВЗ!A37 -> компотная смесь | D34: 20 | E34: 0.3 | F34: =ОВЗ!F37 -> 230 | G34: =E34*F34 -> 69
A35: сахар | D35: 20 | E35: 0.3 | F35: =ОВЗ!F38 -> 75 | G35: =E35*F35 -> 22.5
G36: =SUM(G9:G35) -> 662.33124
A37: Полдник;
A38: выпечка | D38: 50 | E38: 10 | F38: 12 | G38: =E38*F38 -> 120
A39: повидло | D39: 0.025 | E39: 0 | F39: 126 | G39: =E39*F39 -> 0
A40: кофейный напиток на сг. Молоке | F40: ТК №307
A41: какао | D41: 10 | E41: 0.1 | F41: ='[1]ноябрь 2025г'!$BJ$24 -> 1359 | G41: =E41*F41 -> 135.9
A42: молоко сгущёное | D42: 38.8 | E42: 0.4 | F42: 348.65 | G42: =E42*F42 -> 139.46
G43: =SUM(G38:G42) -> 395.36
F44: итого; | G44: =G36+G43 -> 1057.6912

Sheet Д.П.
A1: Меню - требование | I1: =ОВЗ!I1 -> Утверждаю: 05 декабря 2025г
A3: калькуляционная карточка | I3: Директор МБОУ"КСШ"___________Антропова Л.Л.
A5: Сборник рецептур блюд ШОУ 2004г | I5: Заборный лист:
A6: дополнительное питание
A8: наименование: | D8: на 1 пор.гр | E8: кол-во | F8: цена | G8: сумма | I8: наименование: | M8: кол-во | N8: цена | O8: сумма
A9: Суп картофельный с макарон | D9: 250/20 | E9: 30 | F9: ТК№ 47 | H9: 50 пор | I9: =A10 -> макароны | M9: =E10 -> 1 | N9: =F10 -> 50.98 | O9: =M9*N9 -> 50.98
A10: макароны | D10: 0.025 | E10: 1 | F10: =ОВЗ!F14 -> 50.98 | G10: =E10*F10 -> 50.98 | I10: =A11 -> картофель | M10: =E11+E27 -> 13.5 | N10: =F11 -> 30 | O10: =M10*N10 -> 405
A11: картофель | D11: 0.05 | E11: 1.5 | F11: 30 | G11: =E11*F11 -> 45 | I11: =A12 -> лук репчатый | M11: =E12+E21+E43 -> 0.66 | N11: =F12 -> 55 | O11: =M11*N11 -> 36.3
A12: лук репчатый | D12: 0.0125 | E12: 0.36 | F12: 55 | G12: =E12*F12 -> 19.8 | I12: =A13 -> морковь | M12: =E13 -> 0 | N12: =F13 -> 65 | O12: =M12*N12 -> 0
A13: морковь | D13: 0.0125 | E13: 0 | F13: 65 | G13: =E13*F13 -> 0 | I13: масло растительное | M13: =E14+E24+E37+E58+N56 -> 1.7 | N13: =F14 -> 0 | O13: =M13*N13 -> 0
A14: масло растительное | D14: 0.005 | E14: 0.15 | F14: =Б.П.!F17 -> 0 | G14: =E14*F14 -> 0 | I14: =A16 -> мясо | M14: =E16+E19 -> 3.81 | N14: =F16 -> 500 | O14: =M14*N14 -> 1905
A15: зелень | D15: 0.001 | E15: 0.13 | F15: 290 | G15: =E15*F15 -> 37.7 | I15: =I54 -> кура | M15: =N54 -> 3 | N15: =O54 -> 474 | O15: =M15*N15 -> 1422
A16: мясо | D16: 0.027 | E16: 0.81 | F16: 500 | G16: =E16*F16 -> 405 | I16: =A20 -> яйцо столовое | M16: =E20+E33+N63 -> 4 | N16: =F20 -> 7 | O16: =M16*N16 -> 28
F17: =G17/E9 -> 18.616 | G17: =SUM(G10:G16) -> 558.48 | I17: =A22 -> мука | M17: =E22+E32 -> 3.3 | N17: =F22 -> 39 | O17: =M17*N17 -> 128.7 | S17: =G17+G25+G30+G38+G45+G49 -> 6089.146
A18: Котлеты.биточки, шницеля мясн | D18: 80/30 | E18: 30 | F18: ТК №99(1) | H18: =G16/E7 -> #DIV/0! | I18: =A28 -> молоко сухое | M18: =E28 -> 1.2 | N18: =F28 -> 507.42 | O18: =M18*N18 -> 608.904
A19: мясо | D19: 0.0955 | E19: 3 | F19: 500 | G19: =E19*F19 -> 1500 | I19: =A29 -> масло сливочное | M19: =E29+E59+N57 -> 0 | N19: =F29 -> 975.5 | O19: =M19*N19 -> 0
A20: яйцо столовое | D20: 0.0057 | E20: 3 | F20: 7 | G20: =E20*F20 -> 21 | I20: =A34 -> дрожжи | M20: =E34 -> 0.05 | N20: =F34 -> 158 | O20: =M20*N20 -> 7.9
A21: лук репчатый | D21: =E21/E18 -> 0.01 | E21: 0.3 | F21: =F12 -> 55 | G21: =E21*F21 -> 16.5 | I21: =A35 -> сахар | M21: =E35+E48 -> 4.6 | N21: =F35 -> 75 | O21: =M21*N21 -> 345
A22: мука | D22: =E22/E18 -> 0.01 | E22: 0.3 | F22: 39 | G22: =E22*F22 -> 11.7 | I22: =A36 -> молоко сгущёное | M22: =E36 -> 1 | N22: =F36 -> 348.65 | O22: =M22*N22 -> 348.65 | S22: =S17+#REF!+#REF!+#REF!+G50+G51+G52 -> #REF!
A23: чеснок | D23: =E23/E18 -> 0 | E23: 0 | F23: 15 | G23: =E23*F23 -> 0 | I23: =A23 -> чеснок | M23: =E23 -> 0 | N23: =F23 -> 15 | O23: =M23*N23 -> 0 | S23: =S22+P59+P60 -> #REF!
A24: масло растительное | D24: =E24/E18 -> 0.018333333 | E24: 0.55 | F24: =F14 -> 0 | G24: =E24*F24 -> 0 | I24: =A15 -> зелень | M24: =E15 -> 0.13 | N24: =F15 -> 290 | O24: =M24*N24 -> 37.7
F25: =G25/E18 -> 51.64 | G25: =SUM(G19:G24) -> 1549.2 | I25: =A41 -> сельдь. | M25: =E41 -> 0 | N25: =F41 -> 434 | O25: =M25*N25 -> 0
A26: Пюре картофельное | D26: 200 | E26: 100 | F26: ТК №146(2) | I26: =A42 -> майонез | M26: =E42+N60 -> 2.45 | N26: =F42 -> 264.57 | O26: =M26*N26 -> 648.1965
A27: картофель | D27: 0.23 | E27: 12 | F27: 30 | G27: =E27*F27 -> 360 | I27: =A46 -> чай | M27: =E46 -> 200 | N27: =F46 -> 1.8 | O27: =M27*N27 -> 360
A28: молоко сухое | D28: 0.01 | E28: 1.2 | F28: ='[1]ноябрь 2025г'!$BJ$94 -> 507.42 | G28: =E28*F28 -> 608.904 | H28: =G25/E18 -> 51.64 | I28: =A47 -> чай | M28: =E47 -> 0 | N28: =F47 -> 1.71 | O28: =M28*N28 -> 0
A29: масло сливочное | D29: 0.007 | E29: 0 | F29: 975.5 | G29: =E29*F29 -> 0 | I29: =A44 -> сыр | M29: =E44+N58 -> 2.5 | N29: =F44 -> 744.4 | O29: =M29*N29 -> 1861
F30: =G30/E26 -> 9.68904 | G30: =SUM(G27:G29) -> 968.904 | I30: =A52 -> соль | M30: =E52 -> 1 | N30: =F52 -> 20 | O30: =M30*N30 -> 20
A31: Оладьи со сгущ. Молоком | D31: 150 | E31: 30 | F31: №327 | I31: =A40 -> свекла | M31: =E40 -> 5.22 | N31: =F40 -> 55 | O31: =M31*N31 -> 287.1
A32: мука | D32: 0.075 | E32: 3 | F32: 39 | G32: =E32*F32 -> 117
A33: яйцо столовое | D33: 0.0048 | E33: 1 | F33: 7 | G33: =E33*F33 -> 7
A34: дрожжи | D34: 0.0025 | E34: 0.05 | F34: 158 | G34: =E34*F34 -> 7.9
A35: сахар | D35: 0.005 | E35: 0.1 | F35: 75 | G35: =E35*F35 -> 7.5
A36: молоко сгущёное | D36: 0.02 | E36: 1 | F36: 348.65 | G36: =E36*F36 -> 348.65
A37: масло растительное | D37: 0.02 | E37: 1 | F37: =F24 -> 0 | G37: =E37*F37 -> 0 | I37: =A50 -> выпечка | M37: =E50 -> 40 | N37: =F50 -> 12 | O37: =M37*N37 -> 480
F38: =G38/E31 -> 16.268333 | G38: =SUM(G32:G37) -> 488.05 | I38: =A51 -> выпечка | M38: =E51 -> 50 | N38: =F51 -> 55 | O38: =M38*N38 -> 2750
D39: 100 | E39: 50 | F39: ТК №27 | H39: =#REF!/#REF! -> #REF!
A40: свекла | D40: 0.2 | E40: 5.22 | F40: 55 | G40: =E40*F40 -> 287.1
A41: сельдь. | D41: 0 | E41: 0 | F41: 434 | G41: =E41*F41 -> 0
A42: майонез | D42: 0.02 | E42: 1.6 | F42: 264.57 | G42: =E42*F42 -> 423.312
A43: лук репчатый | E43: 0 | F43: 52 | G43: =E43*F43 -> 0 | O43: =SUM(O9:O42) -> 11730.431
A44: сыр | D44: 0.02 | E44: 1.5 | F44: 744.4 | G44: =E44*F44 -> 1116.6
E45: 0 | F45: =G45/E39 -> 36.54024 | G45: =SUM(G40:G44) -> 1827.012 | H45: =#REF!/#REF! -> #REF! | Q45: =G55-O43 -> -11730.431
A46: чай | E46: 200 | F46: ='[1]ноябрь 2025г'!$BJ$174 -> 1.8 | G46: =E46*F46 -> 360 | I46: =G50+G51 -> 3230 | M46: 0 | O46: 0 | P46: 0
A47: чай | E47: 0 | F47: 1.71 | G47: =E47*F47 -> 0 | I47: 2351.4 | M47: 0.4 | O47: =I47*1.4 -> 3291.96 | P47: =O47-I47 -> 940.56
A48: сахар | E48: 4.5 | F48: =F35 -> 75 | G48: =E48*F48 -> 337.5 | I48: =G45+G49+G53 -> 5774.512 | M48: 0.6 | O48: =I48*1.6 -> 9239.2192 | P48: =O48-I48 -> 3464.7072
F49: 0 | G49: =SUM(G46:G48) -> 697.5 | I49: =G38 -> 488.05 | M49: 1 | O49: =I49*2 -> 976.1 | P49: =O49-I49 -> 488.05
A50: выпечка | D50: 0.025 | E50: 40 | F50: 12 | G50: =F50*E50 -> 480 | I50: =O43 -> 11730.431 | N50: итого: | O50: =O47+O48+O49 -> 13507.279 | P50: =SUM(P47:P49) -> 4893.3172 | Q50: =O50-P50 -> 8613.962
A51: выпечка | D51: 0.025 | E51: 50 | F51: 55 | G51: =F51*E51 -> 2750 | H51: =G38/E31 -> 16.268333
A52: соль | E52: 1 | F52: 20 | G52: =F52*E52 -> 20
G53: =SUM(G50:G52) -> 3250 | H53: =#REF!*#REF! -> #REF! | I53: Отбивные куринные | M53: 100 | N53: 40
A54: Рыба жареная | H54: =#REF!*#REF! -> #REF! | I54: кура | M54: 0.15 | N54: 3 | O54: 474 | P54: =N54*O54 -> 1422
I55: мука | M55: 10 | N55: 0 | O55: 35 | P55: =N55*O55 -> 0
A56: Рыба | E56: 0 | F56: 0 | G56: =E56*F56 -> 0 | H56: =#REF!*#REF! -> #REF! | I56: масло растительное | M56: 10 | N56: 0 | O56: =F37 -> 0 | P56: =N56*O56 -> 0
A57: мука | E57: 0 | F57: 0 | G57: =E57*F57 -> 0 | H57: =#REF!*#REF! -> #REF! | I57: масло сливочное | M57: 10 | N57: 0 | O57: 765 | P57: =N57*O57 -> 0
A58: масло растительное | E58: 0 | F58: 0 | G58: =E58*F58 -> 0 | I58: сыр | M58: 25 | N58: 1 | O58: =F44 -> 744.4 | P58: =N58*O58 -> 744.4
A59: масло сливочное | E59: 0 | F59: 0 | G59: =E59*F59 -> 0 | H59: =#REF!*#REF! -> #REF! | O59: =P59/N53 -> 54.16 | P59: =SUM(P54:P58) -> 2166.4
H60: =#REF!*#REF! -> #REF! | I60: майонез | M60: 15 | N60: 0.85 | O60: =F42 -> 264.57 | P60: =N60*O60 -> 224.8845
F61: итого: | G61: =G17+G25+G30+G38+G45+G49+G53+G60+P59+P62 -> 11730.431 | H61: =#REF!*#REF! -> #REF! | I61: кура | N61: 0 | O61: 176 | P61: =N61*O61 -> 0
H62: =E50*F50 -> 480 | P62: =SUM(P60:P61) -> 224.8845
H63: =E51*F51 -> 2750
H65: =#REF!*#REF! -> #REF!
H66: =#REF!*#REF! -> #REF!
H67: =#REF!*#REF! -> #REF!
R89: мммм

Sheet выпечка
A1: калькуляционная карточка | H1: =ГПД!H1 -> Утверждаю: 05 декабря 2025г
A3: Сборник рецептур блюд ШОУ 2018г | H3: Директор МБОУ"КСШ"___________Антропова Л.Л.
A5: выпечка | H5: Заборный лист:
A7: наименование: | D7: на 1 пор.гр | E7: кол-во | F7: цена | G7: сумма | H7: наименование: | K7: кол-во | L7: цена | M7: сумма
A8: Сметанник | D8: 75 | E8: 50 | H8: =A9 -> мука | K8: =E9+E17+E24+E31 -> 22.3 | L8: =F9 -> 43 | M8: =L8*K8 -> 958.9
A9: мука | D9: =E9/E8 -> 0.05 | E9: 2.5 | F9: 43 | G9: =E9*F9 -> 107.5 | H9: =A10 -> сахар | K9: =E10+E18+E25+E32 -> 2.7 | L9: =F10 -> 85 | M9: =L9*K9 -> 229.5
A10: сахар | D10: =E10/E9 -> 0.16 | E10: 0.4 | F10: 85 | G10: =E10*F10 -> 34 | H10: =A20 -> молоко сгущ. Варёное | K10: =E20 -> 2.5 | L10: =F20 -> 220 | M10: =L10*K10 -> 550
A11: дрожжи | D11: =E11/E10 -> 0.125 | E11: 0.05 | F11: 158 | G11: =E11*F11 -> 7.9 | H11: =A28 -> мак | K11: =E28 -> 0.2 | L11: =F28 -> 715 | M11: =L11*K11 -> 143
A12: маргарин | D12: =E12/E11 -> 8 | E12: 0.4 | F12: 165 | G12: =E12*F12 -> 66 | H12: =A13 -> сметана | K12: =E13 -> 0.5 | L12: =F13 -> 242.8 | M12: =L12*K12 -> 121.4
A13: сметана | D13: =E13/E8 -> 0.01 | E13: 0.5 | F13: 242.8 | G13: =E13*F13 -> 121.4 | H13: =A11 -> дрожжи | K13: =E11+E19+E26+E33 -> 0.45 | L13: =F11 -> 158 | M13: =L13*K13 -> 71.1
A14: яйцо столовое | D14: 0.0016 | E14: 2 | F14: 8 | G14: =E14*F14 -> 16 | H14: =A12 -> маргарин | K14: =E12+E21+E27+E34 -> 2.9 | L14: =F12 -> 165 | M14: =L14*K14 -> 478.5
F15: =G15/E8 -> 7.056 | G15: =SUM(G8:G14) -> 352.8 | H15: =A14 -> яйцо столовое | K15: =E14 -> 2 | L15: =F14 -> 8 | M15: =L15*K15 -> 16
A16: Рогалик с вар. сгущ. | D16: 100 | E16: 100
A17: мука | D17: =E17/E16 -> 0.048 | E17: 4.8 | F17: 43 | G17: =E17*F17 -> 206.4
A18: сахар | D18: =E18/E16 -> 0.005 | E18: 0.5 | F18: 85 | G18: =E18*F18 -> 42.5
A19: дрожжи | D19: 0.001 | E19: 0.1 | F19: 158 | G19: =E19*F19 -> 15.8 | M19: =SUM(M8:M17) -> 2568.4 | N19: =G36-M19 -> 0
A20: молоко сгущ. Варёное | D20: 0.025 | E20: 2.5 | F20: 220 | G20: =F20*E20 -> 550 | L20: 1 | M20: =M19*2 -> 5136.8
A21: маргарин | D21: =E21/E16 -> 0.007 | E21: 0.7 | F21: 165 | G21: =E21*F21 -> 115.5
F22: =G22/E16 -> 9.302 | G22: =SUM(G17:G21) -> 930.2
A23: Плюшка с маком | D23: 100 | E23: 120
A24: мука | D24: =E24/$E$23 -> 0.0625 | E24: 7.5 | F24: 43 | G24: =E24*F24 -> 322.5
A25: сахар | D25: =E25/$E$23 -> 0.0075 | E25: 0.9 | F25: 85 | G25: =E25*F25 -> 76.5
A26: дрожжи | D26: =E26/$E$23 -> 0.00125 | E26: 0.15 | F26: 158 | G26: =E26*F26 -> 23.7 | H26: шеф повар :
A27: маргарин | D27: =E27/$E$23 -> 0.0075 | E27: 0.9 | F27: 165 | G27: =E27*F27 -> 148.5
A28: мак | D28: =E28/$E$23 -> 0.0016666667 | E28: 0.2 | F28: 715 | G28: =E28*F28 -> 143
F29: =G29/E23 -> 5.9516667 | G29: =SUM(G24:G28) -> 714.2
A30: Булочка Дорожная | D30: 100 | E30: 100
A31: мука | D31: =E31/$E$30 -> 0.075 | E31: 7.5 | F31: 43 | G31: =E31*F31 -> 322.5
A32: сахар | D32: =E32/$E$30 -> 0.009 | E32: 0.9 | F32: 85 | G32: =E32*F32 -> 76.5
A33: дрожжи | D33: =E33/$E$30 -> 0.0015 | E33: 0.15 | F33: 158 | G33: =E33*F33 -> 23.7
A34: маргарин | D34: =E34/$E$30 -> 0.009 | E34: 0.9 | F34: 165 | G34: =E34*F34 -> 148.5
F35: =G35/E30 -> 5.712 | G35: =SUM(G31:G34) -> 571.2
F36: итого; | G36: =G35+G29+G22+G15 -> 2568.4

Sheet СВО
A1: Меню - требование | I1: =накладная!I1 -> Утверждаю: 05 декабря 2025г
A3: калькуляционная карточка | I3: Директор МБОУ"КСШ"___________Антропова Л.Л.
A5: Сборник рецептур блюд ШОУ 2018г | I5: Заборный лист:
A6: СВО
A8: наименование: | D8: на 1 пор.гр | E8: кол-во | F8: цена | G8: сумма | I8: наименование: | M8: кол-во | N8: цена | O8: сумма | P8: сумма
I9: =A9 -> 0 | M9: =E9 -> 0 | N9: =F9 -> 0 | O9: =M9*N9 -> 0
I10: =A10 -> 0 | M10: =E10 -> 0 | N10: =F10 -> 0 | O10: =M10*N10 -> 0
I11: =A14 -> макароны | M11: =E14 -> 0.3 | N11: =F14 -> 50.98 | O11: =M11*N11 -> 15.294
A12: Обед; | H12: 30 пор | I12: макароны | M12: =E22 -> 0.54 | N12: =F22 -> 59 | O12: =M12*N12 -> 31.86
A13: Суп картофельный с макаронами | D13: 250 | F13: ТК№ 47 | I13: =A15 -> картофель | M13: =E15+E25 -> 1.9 | N13: =F15 -> 30 | O13: =M13*N13 -> 57
A14: макароны | D14: 25 | E14: 0.3 | F14: =ОВЗ!F14 -> 50.98 | G14: =E14*F14 -> 15.294 | I14: =A16 -> лук репчатый | M14: =E16+E28+E33 -> 0.35 | N14: =F16 -> 55 | O14: =M14*N14 -> 19.25
A15: картофель | D15: 100 | E15: 1.5 | F15: =ОВЗ!F15 -> 30 | G15: =E15*F15 -> 45 | I15: =A18 -> масло растительное | M15: =E18+E30+E34 -> 0.15 | N15: =F18 -> 0 | O15: =M15*N15 -> 0
A16: лук репчатый | D16: 12.5 | E16: 0.15 | F16: =ОВЗ!F16 -> 55 | G16: =E16*F16 -> 8.25 | I16: =A19 -> зелень | M16: =E19 -> 0 | N16: =F19 -> 290 | O16: =M16*N16 -> 0
A17: морковь | D17: 12.5 | E17: 0.15 | F17: =ОВЗ!F17 -> 65 | G17: =E17*F17 -> 9.75 | I17: =A20 -> мясо говядина | M17: =E20 -> 0.35 | N17: =F20 -> 500 | O17: =M17*N17 -> 175
A18: масло растительное | D18: 5 | E18: 0.05 | F18: =ОВЗ!F18 -> 0 | G18: =E18*F18 -> 0 | I18: =A23 -> масло сливочное | M18: =E23 -> 0 | N18: =F23 -> 975.5 | O18: =M18*N18 -> 0
A19: зелень | D19: 0.004 | E19: 0 | F19: =ОВЗ!F19 -> 290 | G19: =E19*F19 -> 0 | I19: =A17 -> морковь | M19: =E17+E26 -> 0.35 | N19: =F17 -> 65 | O19: =M19*N19 -> 22.75
A20: мясо говядина | D20: 27 | E20: 0.35 | F20: =ОВЗ!F20 -> 500 | G20: =E20*F20 -> 175 | I20: =A32 -> кура | M20: =E32 -> 0.5 | N20: =F32 -> 474 | O20: =M20*N20 -> 237
A21: Макароны отварные | D21: 150 | F21: ТК№224 | I21: =A37 -> компотная смесь | M21: =E37 -> 0.25 | N21: =F37 -> 230 | O21: =M21*N21 -> 57.5
A22: макароны | D22: 54 | E22: 0.54 | F22: =ОВЗ!F22 -> 59 | G22: =E22*F22 -> 31.86 | I22: =A38 -> сахар | M22: =E38 -> 0.25 | N22: =F38 -> 75 | O22: =M22*N22 -> 18.75
A23: масло сливочное | D23: 6.75 | E23: 0 | F23: =ОВЗ!F23 -> 975.5 | G23: =E23*F23 -> 0 | I23: =A29 -> зелёный горошек | M23: =E29 -> 0 | N23: =F29 -> 205 | O23: =M23*N23 -> 0
A24: Салат овощной | D24: 80 | F24: ТК№14 | I24: =A27 -> солёный огурец | M24: =E27 -> 0.1 | N24: =F27 -> 400 | O24: =M24*N24 -> 40
A25: картофель | D25: 40 | E25: 0.4 | F25: =ОВЗ!F25 -> 30 | G25: =E25*F25 -> 12 | I25: =A35 -> яйцо отварное | M25: =E35 -> 1 | N25: =F35 -> 7 | O25: =M25*N25 -> 7
A26: морковь | D26: 20 | E26: 0.2 | F26: =ОВЗ!F26 -> 65 | G26: =E26*F26 -> 13
A27: солёный огурец | D27: 20 | E27: 0.1 | F27: =ОВЗ!F27 -> 400 | G27: =E27*F27 -> 40 | O27: =SUM(O9:O26) -> 681.404 | P27: =G39-O27 -> 0
A28: лук репчатый | D28: 10 | E28: 0.15 | F28: =ОВЗ!F28 -> 55 | G28: =E28*F28 -> 8.25
A29: зелёный горошек | D29: 25 | E29: 0 | F29: =ОВЗ!F29 -> 205 | G29: =E29*F29 -> 0 | Q29: 121.44
A30: масло растительное | D30: 5 | E30: 0.05 | F30: =ОВЗ!F30 -> 0 | G30: =E30*F30 -> 0 | I30: шеф повар:
A31: Биточки куринные | F31: ТК№209
A32: кура | D32: 145/52 | E32: 0.5 | F32: =ОВЗ!F32 -> 474 | G32: =E32*F32 -> 237
A33: лук репчатый | D33: 5 | E33: 0.05 | F33: =ОВЗ!F33 -> 55 | G33: =E33*F33 -> 2.75
A34: масло растительное | D34: 8 | E34: 0.05 | F34: =ОВЗ!F34 -> 0 | G34: =E34*F34 -> 0
A35: яйцо отварное | D35: 0.004 | E35: 1 | F35: =ОВЗ!F35 -> 7 | G35: =E35*F35 -> 7
A36: =ОВЗ!A36 -> Компот | D36: 200 | F36: ТК №282
A37: =ОВЗ!A37 -> компотная смесь | D37: 20 | E37: 0.25 | F37: =ОВЗ!F37 -> 230 | G37: =E37*F37 -> 57.5
A38: сахар | D38: 20 | E38: 0.25 | F38: =ОВЗ!F38 -> 75 | G38: =E38*F38 -> 18.75
G39: =SUM(G9:G38) -> 681.404

Sheet Лист1
