Workbook

Sheet ХЛЕБ
F2: Приложение
F3: к договору на поставку
F4: продуктов питания №______
F5: от "__площадка__ 2016__г.
C7: СПЕЦИФИКАЦИЯ | E7: НАЧАЛЬНАЯ
A9: № | B9: НАИМЕНОВАНИЕ ТОВАРА | F9: ЕД.ИЗМЕР | G9: КОЛ-ВО | H9: ЦЕНА | I9: СУММА
A10: 1 | B10: хлеб столичный 0,7 | F10: шт | H10: 23.5 | I10: =H10*G10 -> 0
A11: 2 | B11: хлеб пшеничный в/с 0,6 | F11: шт | H11: 26 | I11: =H11*G11 -> 0
A12: 3 | B12: батон "сельский" 0,4 | F12: шт | H12: 22 | I12: =H12*G12 -> 0
I13: =H13*G13 -> 0
I14: =H14*G14 -> 0
I15: =H15*G15 -> 0
I16: =SUM(I10:I15) -> 0
B39: Поставщик: | F39: Покупатель:
A41: ____________ ИП Поникаровская Е.В. | F41: ________________ Анисимова Л.Н.

Sheet мясо
F2: Приложение
F3: к договору на поставку
F4: продуктов питания №______
F5: от "______ 2016__г.
C7: СПЕЦИФИКАЦИЯ | E7: НАЧАЛЬНАЯ площадка
A9: № | B9: НАИМЕНОВАНИЕ ТОВАРА | F9: ЕД.ИЗМЕР | G9: КОЛ-ВО | H9: ЦЕНА | I9: СУММА
A10: 1 | B10: говядина | F10: кг | G10: 179 | H10: 260 | I10: =H10*G10 -> 46540
I11: =H11*G11 -> 0
I12: =SUM(I10:I11) -> 46540
B39: Поставщик: | F39: Покупатель:
A41: ____________ ИП Поршнева А.В. | F41: ________________ Анисимова Л.Н.

Sheet Б.П.
A1: Меню - требование | H1: Утверждаю: 02 декабря 2025г
A3: калькуляционная карточка | H3: Директор МБОУ"КСШ"_________________Антропова Л.Л.
A5: Сборник рецептур блюд ШОУ 2018г
A6: питание учащихся с 1 по 4класс | H6: Заборный лист:
A7: количество детей: чел
A8: наименование: | D8: на 1 пор.гр | E8: кол-во | F8: цена | G8: сумма | H8: наименование: | L8: кол-во | M8: цена | N8: сумма
A9: Котлеты,биточки,шницеля | D9: 80/30 | E9: 220 | F9: ТК №99 | H9: =A10 -> мясо | L9: =E10 -> 0 | M9: =F10 -> 500 | N9: =L9*M9 -> 0
A10: мясо | D10: 0.09 | E10: 0 | F10: 500 | G10: =E10*F10 -> 0 | H10: =A11 -> масло сливочное | L10: =E11+E18 -> 1.475 | M10: =F11 -> 975.5 | N10: =L10*M10 -> 1438.8625 | P10: 4.81 | Q10: =E10-P10 -> -4.81
A11: масло сливочное | D11: 0.005 | E11: 1.1 | F11: 975.5 | G11: =E11*F11 -> 1073.05 | H11: =A12 -> лук репчатый | L11: =E12 -> 1.25 | M11: =F12 -> 55 | N11: =L11*M11 -> 68.75
A12: лук репчатый | D12: =E12/E9 -> 0.0056818182 | E12: 1.25 | F12: 55 | G12: =E12*F12 -> 68.75 | H12: =A13 -> яйцо столовое | L12: =E13 -> 20 | M12: =F13 -> 7 | N12: =L12*M12 -> 140
A13: яйцо столовое | D13: =E13/E9 -> 0.090909091 | E13: 20 | F13: 7 | G13: =E13*F13 -> 140 | H13: =A16 -> молоко сухое | L13: =E16 -> 0.8 | M13: =F16 -> 507.42 | N13: =L13*M13 -> 405.936
A14: масло растительное | D14: =E14/E13 -> 0.0625 | E14: 1.25 | F14: ='[1]ноябрь 2025г'!$BJ$84 -> 162.18 | G14: =E14*F14 -> 202.725 | H14: =A17 -> мука | L14: =E17 -> 0.11 | M14: =F17 -> 39 | N14: =L14*M14 -> 4.29
A15: СОУС: | D15: 30 | F15: ТК №256 | H15: =A21 -> макароны . | L15: =E21 -> 13 | M15: =F21 -> 59 | N15: =L15*M15 -> 767
A16: молоко сухое | D16: =E16/E9 -> 0.0036363636 | E16: 0.8 | F16: 507.42 | G16: =E16*F16 -> 405.936 | H16: =A24 -> Огурцы свежие | L16: =E24 -> 10.5 | M16: =F24 -> 185 | N16: =L16*M16 -> 1942.5
A17: мука | D17: =E17/E9 -> 0.0005 | E17: 0.11 | F17: ='[1]ноябрь 2025г'!$BJ$99 -> 39 | G17: =E17*F17 -> 4.29 | H17: =A14 -> масло растительное | L17: =E14+E22+E25 -> 3.525 | M17: =F14 -> 162.18 | N17: =L17*M17 -> 571.6845
A18: масло сливочное | D18: =E18/E9 -> 0.0017045455 | E18: 0.375 | F18: =F11 -> 975.5 | G18: =E18*F18 -> 365.8125 | H18: =A27 -> шиповник | L18: =E27 -> 3.3 | M18: =F27 -> 290 | N18: =L18*M18 -> 957
A19: томат паста | D19: =E19/E9 -> 0.0022727273 | E19: 0.5 | F19: 260 | G19: =E19*F19 -> 130 | H19: =A29 -> сахар | L19: =E29 -> 4.4 | M19: =F29 -> 75 | N19: =L19*M19 -> 330
A20: Макароны отварные | D20: 150 | F20: ТК №227 | G20: 0 | H20: =A30 -> Десерт | L20: =E30 -> 7 | M20: =F30 -> 345.32 | N20: =L20*M20 -> 2417.24
A21: макароны . | D21: =E21/E9 -> 0.059090909 | E21: 13 | F21: ='[1]ноябрь 2025г'!$BJ$79 -> 59 | G21: =E21*F21 -> 767 | H21: =A32 -> хлеб | L21: =E32 -> 8.4 | M21: =F32 -> 62.86 | N21: =L21*M21 -> 528.024 | P21: Салат из свеж. Огурцов | S21: 100 | U21: ТК №16
A22: масло растительное | D22: =E22/E9 -> 0.0051136364 | E22: 1.125 | F22: =F14 -> 162.18 | G22: =E22*F22 -> 182.4525 | H22: =A33 -> хлеб | L22: =E33 -> 6 | M22: =F33 -> 78.33 | N22: =L22*M22 -> 469.98 | P22: Огурцы свежие | S22: 100 | T22: 0 | U22: 170.82 | V22: =T22*U22 -> 0
A23: Салат из свежих огурцов | D23: 50 | F23: ТК №16 | H23: =A35 -> 0 | L23: =E35 -> 0 | M23: =F35 -> 0 | N23: =L23*M23 -> 0 | P23: Зелёный горошек | S23: 20 | T23: 8.555 | U23: 205.88 | V23: =T23*U23 -> 1761.3034
A24: Огурцы свежие | D24: =E24/E9 -> 0.047727273 | E24: 10.5 | F24: 185 | G24: =E24*F24 -> 1942.5 | H24: =A19 -> томат паста | L24: =E19 -> 0.5 | M24: =F19 -> 260 | N24: =L24*M24 -> 130 | P24: лук репчатый | S24: 5 | T24: 1.15 | U24: 57 | V24: =T24*U24 -> 65.55
A25: масло растительное | D25: =E25/E9 -> 0.0052272727 | E25: 1.15 | F25: =F14 -> 162.18 | G25: =E25*F25 -> 186.507 | H25: =A28 -> ягоды | L25: =E28 -> 0.86 | M25: =F28 -> 630 | N25: =L25*M25 -> 541.8 | P25: масло растительное | S25: 10 | T25: 1.15 | U25: 140.84 | V25: =T25*U25 -> 161.966
A26: Напиток из шиповника | D26: 200 | F26: ТК №310 | G26: 0 | H26: =A31 -> Конфеты | L26: =E31 -> 4.4 | M26: =F31 -> 391.01 | N26: =L26*M26 -> 1720.444
A27: шиповник | D27: 0.02 | E27: 3.3 | F27: 290 | G27: =E27*F27 -> 957
A28: ягоды | E28: 0.86 | F28: 630 | G28: =E28*F28 -> 541.8 | N28: =SUM(N9:N27) -> 12433.511
A29: сахар | D29: 0.02 | E29: 4.4 | F29: 75 | G29: =E29*F29 -> 330
A30: Десерт | D30: =E30/E9 -> 0.031818182 | E30: 7 | F30: 345.32 | G30: =E30*F30 -> 2417.24
A31: Конфеты | D31: 0.02 | E31: 4.4 | F31: 391.01 | G31: =E31*F31 -> 1720.444 | H31: шеф повар : Антонова Н.А.
A32: хлеб | D32: =E32/E9 -> 0.038181818 | E32: 8.4 | F32: 62.86 | G32: =E32*F32 -> 528.024
A33: хлеб | D33: =E33/E9 -> 0.027272727 | E33: 6 | F33: 78.33 | G33: =E33*F33 -> 469.98
G34: =SUM(G10:G33) -> 12433.511
G35: =E35*F35 -> 0
G36: =G34+G35 -> 12433.511
G37: =G36/E9 -> 56.515959

Sheet Д.П.
A1: Меню - требование | H1: =Б.П.!H1 -> Утверждаю: 02 декабря 2025г
A3: калькуляционная карточка | H3: Директор МБОУ"КСШ"__Антропова Л.Л.
A5: Сборник рецептур блюд ШОУ 2018г
A6: дополнительное платное питание. | H6: Заборный лист:
A8: наименование: | D8: на 1 пор.гр | E8: кол-во | F8: цена | G8: сумма | H8: наименование: | M8: кол-во | N8: цена | O8: сумма
A9: Щи из капусты с картофелем | D9: 250/10 | E9: 30 | F9: ТК №59(1) | H9: картофель | M9: =E10+E48+E56 -> 14.2 | N9: =F10 -> 30 | O9: =M9*N9 -> 426
A10: картофель | D10: 0.1 | E10: 3 | F10: 30 | G10: =E10*F10 -> 90 | H10: капуста свежая | M10: =E11+E59 -> 3.2 | N10: =F11 -> 45 | O10: =M10*N10 -> 144
A11: капуста свежая | D11: 0.062 | E11: 2 | F11: 45 | G11: =E11*F11 -> 90
A12: лук репчатый | D12: 0.012 | E12: =D12*E9 -> 0.36 | F12: 55 | G12: =E12*F12 -> 19.8 | H12: лук репчатый | M12: =E12+E33+E62+M63 -> 1.16 | N12: =F12 -> 55 | O12: =M12*N12 -> 63.8
A13: томат паста | D13: 0.002 | E13: 0 | F13: 260 | G13: =E13*F13 -> 0 | H13: томат паста | M13: =E13+E41+M65 -> 0.8 | N13: =F13 -> 260 | O13: =M13*N13 -> 208
A14: морковь | D14: 0.012 | E14: =D14*E9 -> 0.36 | F14: 65 | G14: =E14*F14 -> 23.4 | H14: =A14 -> морковь | M14: =E14+E55+M64 -> 2.16 | N14: =F14 -> 65 | O14: =M14*N14 -> 140.4
A15: масло растительное | D15: 0.004 | E15: 0.12 | F15: =Б.П.!F14 -> 162.18 | G15: =E15*F15 -> 19.4616 | H15: =A15 -> масло растительное | M15: =E15+E28+E36+E45+E61+M52+M66 -> 2.12 | N15: =F15 -> 162.18 | O15: =M15*N15 -> 343.8216
A16: мясо говядина | D16: 0.027 | E16: 0.81 | F16: =Б.П.!F10 -> 500 | G16: =E16*F16 -> 405 | H16: =A16 -> мясо говядина | M16: =E16+E31+M62 -> 6.51 | N16: =F16 -> 500 | O16: =M16*N16 -> 3255
A17: майонез | D17: =E17/E9 -> 0.026666667 | E17: 0.8 | F17: 264.57 | G17: =E17*F17 -> 211.656 | H17: =A17 -> майонез | M17: =E17+E65 -> 2.3 | N17: =F17 -> 264.57 | O17: =M17*N17 -> 608.511
A18: соль | D18: =E18/E10 -> 0.33333333 | E18: 1 | F18: 20 | G18: =E18*F18 -> 20 | H18: =A18 -> соль | M18: =E18 -> 1 | N18: =F18 -> 20 | O18: =M18*N18 -> 20
A19: сметана | D19: =E19/E11 -> 0 | E19: 0 | F19: 242.8 | G19: =E19*F19 -> 0 | H19: =A19 -> сметана | M19: =E19 -> 0 | N19: =F19 -> 242.8 | O19: =M19*N19 -> 0
A20: зелень | D20: =E20/E12 -> 0 | E20: 0 | F20: 360 | G20: =E20*F20 -> 0 | H20: =A20 -> зелень | M20: =E20+E60 -> 0.1 | N20: 290 | O20: =M20*N20 -> 29
G21: =SUM(G10:G20) -> 879.3176 | H21: =A23 -> мука | M21: =E23+E34+E39+M67 -> 2.32 | N21: =F23 -> 39 | O21: =M21*N21 -> 90.48
A22: Оладьи со сгущ. Молоком | E22: 20 | F22: №1084 | H22: =A24 -> яйцо столовое | M22: =E24+E32 -> 7 | N22: =F24 -> 7 | O22: =M22*N22 -> 49
A23: мука | D23: 0.075 | E23: 2 | F23: 39 | G23: =E23*F23 -> 78 | H23: =A25 -> дрожжи | M23: =E25 -> 0.05 | N23: =F25 -> 158 | O23: =M23*N23 -> 7.9
A24: яйцо столовое | D24: 0.01 | E24: 2 | F24: 7 | G24: =E24*F24 -> 14 | H24: =A26 -> сахар | M24: =E26+M59+M70 -> 1.6 | N24: =F26 -> 75 | O24: =M24*N24 -> 120
A25: дрожжи | D25: =E25/E22 -> 0.0025 | E25: 0.05 | F25: 158 | G25: =E25*F25 -> 7.9 | H25: =A27 -> молоко сгущёное | M25: =E27 -> 1 | N25: =F27 -> 348.65 | O25: =M25*N25 -> 348.65
A26: сахар | D26: =E26/E22 -> 0.005 | E26: 0.1 | F26: =Б.П.!F29 -> 75 | G26: =E26*F26 -> 7.5 | H26: =A35 -> чеснок | M26: =E35 -> 0 | N26: =F35 -> 15 | O26: =M26*N26 -> 0
A27: молоко сгущёное | D27: =E27/E22 -> 0.05 | E27: 1 | F27: 348.65 | G27: =E27*F27 -> 348.65 | H27: =A38 -> молоко сухое | M27: =E38+E49 -> 1.05 | N27: =F49 -> 507.42 | O27: =M27*N27 -> 532.791
A28: масло растительное | D28: =E28/E22 -> 0.05 | E28: 1 | F28: =F15 -> 162.18 | G28: =E28*F28 -> 162.18 | H28: =A40 -> масло сливочное | M28: =E40+E50 -> 0.4 | N28: =F50 -> 975.5 | O28: =M28*N28 -> 390.2
G29: =SUM(G23:G28) -> 618.23 | H29: =A44 -> макароны . | M29: =E44 -> 1 | N29: =F44 -> 59 | O29: =M29*N29 -> 59
A30: Котлеты мясные с соусом | D30: 80/30 | E30: 30 | F30: ТК №99(1) | H30: =A54 -> свекла | M30: =E54 -> 0 | N30: =F54 -> 52 | O30: =M30*N30 -> 0
A31: мясо | D31: =E31/E30 -> 0.09 | E31: 2.7 | F31: =F16 -> 500 | G31: =E31*F31 -> 1350 | H31: =A57 -> огурец солёный | M31: =E57 -> 0.5 | N31: =F57 -> 400 | O31: =M31*N31 -> 200
A32: яйцо столовое | D32: 4 | E32: 5 | F32: 7 | G32: =E32*F32 -> 35 | H32: =A58 -> Зелёный горошек | M32: =E58 -> 0.6 | N32: =F58 -> 185.88 | O32: =M32*N32 -> 111.528
A33: лук репчатый | D33: =E33/E30 -> 0.01 | E33: 0.3 | F33: 55 | G33: =E33*F33 -> 16.5 | H33: =A63 -> рыба | M33: =E63 -> 1 | N33: =F63 -> 610 | O33: =M33*N33 -> 610
A34: мука | D34: =E34/E30 -> 0.004 | E34: 0.12 | F34: =F23 -> 39 | G34: =E34*F34 -> 4.68 | H34: =H51 -> рыба. | M34: =M51 -> 0 | N34: =N51 -> 347 | O34: =M34*N34 -> 0
A35: чеснок | D35: =E35/E34 -> 0 | E35: 0 | F35: 15 | G35: =E35*F35 -> 0 | H35: =H55 -> хлеб | M35: =M55 -> 0 | N35: =N55 -> 51.43 | O35: =M35*N35 -> 0
A36: масло растительное | D36: =E36/E30 -> 0.013333333 | E36: 0.4 | F36: =F28 -> 162.18 | G36: =E36*F36 -> 64.872 | H36: =H56 -> хлеб | M36: =M56 -> 0 | N36: =N56 -> 71.67 | O36: =M36*N36 -> 0
A37: СОУС: | G37: =SUM(G31:G36) -> 1471.052 | H37: =H58 -> цикорий | M37: =M58 -> 0.45 | N37: =N58 -> 3484.67 | O37: =M37*N37 -> 1568.1015
A38: молоко сухое | D38: =E38/E30 -> 0.0066666667 | E38: 0.2 | F38: 507.42 | G38: =E38*F38 -> 101.484 | H38: =H69 -> ягоды | M38: =M69 -> 0 | N38: =N69 -> 510 | O38: =M38*N38 -> 0
A39: мука | D39: =E39/E31 -> 0.074074074 | E39: 0.2 | F39: =F34 -> 39 | G39: =E39*F39 -> 7.8 | H39: =A67 -> Булочка Дорожная | M39: =E67 -> 40 | N39: =F67 -> 12 | O39: =M39*N39 -> 480
A40: масло сливочное | D40: =E40/E32 -> 0.04 | E40: 0.2 | F40: 975.5 | G40: =E40*F40 -> 195.1 | H40: =A68 -> Сосиски в тесте | M40: =E68 -> 50 | N40: =F68 -> 55 | O40: =M40*N40 -> 2750
A41: томат паста | D41: 0 | E41: 0.5 | F41: 260 | G41: =E41*F41 -> 130
G42: =SUM(G38:G41) -> 434.384 | O42: =SUM(O9:O41) -> 12556.183
A43: Макароны отварные | D43: 150 | E43: 220 | F43: ТК №227(2) | G43: ТК№227
A44: макароны . | D44: =E44/E43 -> 0.0045454545 | E44: 1 | F44: =Б.П.!F21 -> 59 | G44: =E44*F44 -> 59 | H44: =G67+G68 -> 3230 | M44: 0 | N44: 0 | O44: 0
A45: масло растительное | D45: =E45/E43 -> 0.00045454545 | E45: 0.1 | F45: =F36 -> 162.18 | G45: =E45*F45 -> 16.218 | H45: 6567.65 | M45: 0.4 | N45: =H45*P45 -> 9194.71 | O45: =N45-H45 -> 2627.06 | P45: 1.4
G46: =SUM(G44:G45) -> 75.218 | H46: =G51+G64 -> 2140.307 | M46: 0.6 | N46: =H46*P46 -> 3424.4912 | O46: =N46-H46 -> 1284.1842 | P46: 1.6
A47: Пюре картофельное | D47: 200 | E47: 100 | F47: ТК№146 | H47: =G29 -> 618.23 | M47: 1 | N47: =H47*P47 -> 1236.46 | O47: =N47-H47 -> 618.23 | P47: 2
A48: картофель | D48: 0.226 | E48: 10 | F48: 30 | G48: =E48*F48 -> 300 | H48: =O42 -> 12556.183 | M48: итого: | N48: =N45+N46+N47 -> 13855.661 | O48: =SUM(O45:O47) -> 4529.4742 | P48: =N48-O48 -> 9326.187
A49: молоко сухое | D49: 0.02 | E49: 0.85 | F49: =F38 -> 507.42 | G49: =E49*F49 -> 431.307 | N49: =N48+H44 -> 17085.661
A50: масло сливочное | D50: 0.01 | E50: 0.2 | F50: 975.5 | G50: =E50*F50 -> 195.1 | H50: Рыба жареная
E51: 100 | G51: =SUM(G48:G50) -> 926.407 | H51: рыба. | M51: 0 | N51: 347 | O51: =M51*N51 -> 0
H52: масло растительное | M52: 0 | N52: 140.84 | O52: =M52*N52 -> 0
A53: Салат рыбный | D53: 100/20 | E53: 50 | F53: ТК№42 | H53: мука | M53: 0 | N53: 35 | O53: =M53*N53 -> 0
A54: свекла | D54: =E54/E53 -> 0 | E54: 0 | F54: 52 | G54: =E54*F54 -> 0 | M54: 150 | O54: =SUM(O51:O53) -> 0
A55: морковь | D55: =E55/E53 -> 0.03 | E55: 1.5 | F55: 65 | G55: =E55*F55 -> 97.5 | H55: хлеб | L55: =M55/M54 -> 0 | M55: 0 | N55: 51.43 | O55: =M55*N55 -> 0
A56: картофель | D56: =E56/E53 -> 0.024 | E56: 1.2 | F56: 30 | G56: =E56*F56 -> 36 | H56: хлеб | L56: =M56/M54 -> 0 | M56: 0 | N56: 71.67 | O56: =M56*N56 -> 0
A57: огурец солёный | D57: =E57/E53 -> 0.01 | E57: 0.5 | F57: 400 | G57: =E57*F57 -> 200 | M57: 100 | O57: =SUM(O55:O56) -> 0
A58: Зелёный горошек | D58: 10 | E58: 0.6 | F58: ='[1]ноябрь 2025г'!$BJ$17 -> 185.88 | G58: =E58*F58 -> 111.528 | H58: цикорий | L58: =M58/M57 -> 0.0045 | M58: 0.45 | N58: 3484.67 | O58: =M58*N58 -> 1568.1015
A59: капуста свежая | D59: =E59/E53 -> 0.024 | E59: 1.2 | F59: 45 | G59: =E59*F59 -> 54 | H59: сахар | L59: =M59/M57 -> 0.015 | M59: 1.5 | N59: =F26 -> 75 | O59: =M59*N59 -> 112.5
A60: зелень | D60: =E60/E53 -> 0.002 | E60: 0.1 | F60: 290 | G60: =E60*F60 -> 29 | O60: =SUM(O58:O59) -> 1680.6015
A61: масло растительное | D61: =E61/E53 -> 0.008 | E61: 0.4 | F61: =F36 -> 162.18 | G61: =E61*F61 -> 64.872 | H61: Гуляш мясной | L61: 70/30 | M61: 50
A62: лук репчатый | D62: =E62/E53 -> 0.004 | E62: 0.2 | F62: 55 | G62: =E62*F62 -> 11 | H62: мясо говядина(0,15) | L62: =M62/M61 -> 0.06 | M62: 3 | N62: 500 | O62: =M62*N62 -> 1500
A63: рыба | D63: =E63/E53 -> 0.02 | E63: 1 | F63: 610 | G63: =E63*F63 -> 610 | H63: лук репчатый | L63: 0.01 | M63: 0.3 | N63: 55 | O63: =M63*N63 -> 16.5
G64: =SUM(G54:G63) -> 1213.9 | H64: морковь | L64: =M63/M61 -> 0.006 | M64: 0.3 | N64: 65 | O64: =M64*N64 -> 19.5
A65: майонез | D65: 0.03 | E65: 1.5 | F65: 264.57 | G65: =E65*F65 -> 396.855 | H65: т паста | L65: 0.02 | M65: 0.3 | N65: 260 | O65: =M65*N65 -> 78
G66: =G21+G29+G37+G42+G46+G51+G64+G65 -> 6015.3636 | H66: масло растительное | L66: 0.02 | M66: 0.1 | N66: =F61 -> 162.18 | O66: =M66*N66 -> 16.218
A67: Булочка Дорожная | D67: 0.05 | E67: 40 | F67: 12 | G67: =E67*F67 -> 480 | H67: мука | L67: 0.02 | M67: 0 | N67: 53.95 | O67: =M67*N67 -> 0
A68: Сосиски в тесте | D68: 0.1 | E68: 50 | F68: 55 | G68: =E68*F68 -> 2750 | H68: Напиток ягодный | M68: 200 | O68: =SUM(O62:O67) -> 1630.218
H69: ягоды | L69: =M69/M68 -> 0 | M69: 0 | N69: 510 | O69: =M69*N69 -> 0
H70: сахар | L70: 0.025 | M70: 0 | N70: 75 | O70: =M70*N70 -> 0
G71: =G66+O71 -> 9326.1831 | O71: =O54+O57+O60+O68+O69+O70 -> 3310.8195
F72: итого | G72: =G71+G67+G68 -> 12556.183
H73: шеф повар : Антонова Н.А.

Sheet накладная
A1: МБОУ "Красноборская средняя школа" | I1: =Д.П.!H1 -> Утверждаю: 02 декабря 2025г
I3: Директор МБОУ"КСШ"__Антропова Л.Л.
A6: Накладная
E8: =I1 -> Утверждаю: 02 декабря 2025г
A9: кому: КУХНЯ
B10: От кого: Антонова Н.А.
A11: №п/п | B11: Наименование: | F11: Б.П. | G11: доп. пит | H11: ОВЗ | I11: внеурочка | J11: СВО | K11: выпечка | M11: итого | N11: цена | Q11: сумма
A12: 1 | B12: =Д.П.!H9 -> картофель | G12: =Д.П.!M9 -> 14.2 | H12: 3.15 | I12: 1 | J12: 0.5 | M12: =SUM(F12:L12) -> 18.85 | N12: =Д.П.!N9 -> 30 | Q12: =M12*N12 -> 565.5
A13: =A12+1 -> 2 | B13: =Д.П.!H10 -> капуста свежая | G13: =Д.П.!M10 -> 3.2 | H13: 2.1 | I13: 0.65 | J13: 0.3 | M13: =SUM(F13:L13) -> 6.25 | N13: =Д.П.!N10 -> 45 | Q13: =M13*N13 -> 281.25
A14: =A13+1 -> 3 | B14: чай | G14: =Д.П.!M11 -> 0 | I14: 0.01 | M14: =SUM(F14:L14) -> 0.01 | N14: 1300 | Q14: =M14*N14 -> 13
A15: =A14+1 -> 4 | B15: =Д.П.!H12 -> лук репчатый | F15: 1.25 | G15: =Д.П.!M12 -> 1.16 | H15: 3.91 | I15: 0.54 | J15: 0.35 | M15: =SUM(F15:L15) -> 7.21 | N15: =Д.П.!N12 -> 55 | Q15: =M15*N15 -> 396.55
A16: =A15+1 -> 5 | B16: =Д.П.!H13 -> томат паста | F16: 0.5 | G16: =Д.П.!M13 -> 0.8 | H16: 0.5 | I16: 0.1 | J16: 0.1 | M16: =SUM(F16:L16) -> 2 | N16: =Д.П.!N13 -> 260 | Q16: =M16*N16 -> 520
A17: =A16+1 -> 6 | B17: =Д.П.!H14 -> морковь | G17: =Д.П.!M14 -> 2.16 | H17: 5.4 | I17: 0.78 | J17: 0.65 | M17: =SUM(F17:L17) -> 8.99 | N17: =Д.П.!N14 -> 65 | Q17: =M17*N17 -> 584.35
A18: =A17+1 -> 7 | B18: =Д.П.!H15 -> масло растительное | F18: 3.525 | G18: =Д.П.!M15 -> 2.12 | H18: 0.77 | I18: 0.21 | J18: 0.19 | M18: =SUM(F18:L18) -> 6.815 | N18: =Д.П.!N15 -> 162.18 | Q18: =M18*N18 -> 1105.2567
A19: =A18+1 -> 8 | B19: =Д.П.!H16 -> мясо говядина | F19: 19.8 | G19: =Д.П.!M16 -> 6.51 | H19: 2.31 | I19: 1.27 | J19: 0.885 | M19: =SUM(F19:L19) -> 30.775 | N19: =Д.П.!N16 -> 500 | Q19: =M19*N19 -> 15387.5
A20: =A19+1 -> 9 | B20: =Д.П.!H17 -> майонез | G20: =Д.П.!M17 -> 2.3 | M20: =SUM(F20:L20) -> 2.3 | N20: =Д.П.!N17 -> 264.57 | Q20: =M20*N20 -> 608.511
A21: =A20+1 -> 10 | B21: =Д.П.!H18 -> соль | G21: =Д.П.!M18 -> 1 | M21: =SUM(F21:L21) -> 1 | N21: =Д.П.!N18 -> 20 | Q21: =M21*N21 -> 20
A22: =A21+1 -> 11 | B22: =Д.П.!H19 -> сметана | G22: =Д.П.!M19 -> 0 | M22: =SUM(F22:L22) -> 0 | N22: =Д.П.!N19 -> 242.8 | Q22: =M22*N22 -> 0
A23: =A22+1 -> 12 | B23: =Д.П.!H20 -> зелень | G23: =Д.П.!M20 -> 0.1 | M23: =SUM(F23:L23) -> 0.1 | N23: =Д.П.!N20 -> 290 | Q23: =M23*N23 -> 29
A24: =A23+1 -> 13 | B24: =Д.П.!H21 -> мука | F24: 0.11 | G24: =Д.П.!M21 -> 2.32 | H24: 0.12 | I24: 0.05 | J24: 0.05 | M24: =SUM(F24:L24) -> 2.65 | N24: =Д.П.!N21 -> 39 | Q24: =M24*N24 -> 103.35
A25: =A24+1 -> 14 | B25: =Д.П.!H22 -> яйцо столовое | F25: 20 | G25: =Д.П.!M22 -> 7 | M25: =SUM(F25:L25) -> 27 | N25: =Д.П.!N22 -> 7 | Q25: =M25*N25 -> 189
A26: =A25+1 -> 15 | B26: =Д.П.!H23 -> дрожжи | G26: =Д.П.!M23 -> 0.05 | M26: =SUM(F26:L26) -> 0.05 | N26: =Д.П.!N23 -> 158 | Q26: =M26*N26 -> 7.9
A27: =A26+1 -> 16 | B27: =Д.П.!H24 -> сахар | F27: 4.4 | G27: =Д.П.!M24 -> 1.6 | H27: 0.7 | I27: 0.35 | J27: 0.2 | M27: =SUM(F27:L27) -> 7.25 | N27: =Д.П.!N24 -> 75 | Q27: =M27*N27 -> 543.75
A28: =A27+1 -> 17 | B28: =Д.П.!H25 -> молоко сгущёное | G28: =Д.П.!M25 -> 1 | M28: =SUM(F28:L28) -> 1 | N28: =Д.П.!N25 -> 348.65 | Q28: =M28*N28 -> 348.65
A29: =A28+1 -> 18 | B29: огурцы свежие | F29: 10.5 | G29: =Д.П.!M26 -> 0 | M29: =SUM(F29:L29) -> 10.5 | N29: 185 | Q29: =M29*N29 -> 1942.5
A30: =A29+1 -> 19 | B30: =Д.П.!H27 -> молоко сухое | F30: 0.8 | G30: =Д.П.!M27 -> 1.05 | M30: =SUM(F30:L30) -> 1.85 | N30: =Д.П.!N27 -> 507.42 | Q30: =M30*N30 -> 938.727
A31: =A30+1 -> 20 | B31: =Д.П.!H28 -> масло сливочное | F31: 1.475 | G31: =Д.П.!M28 -> 0.4 | H31: 0.15 | I31: 0.05 | J31: 0.05 | M31: =SUM(F31:L31) -> 2.125 | N31: =Д.П.!N28 -> 975.5 | Q31: =M31*N31 -> 2072.9375
A32: =A31+1 -> 21 | B32: =Д.П.!H29 -> макароны . | F32: 13 | G32: =Д.П.!M29 -> 1 | M32: =SUM(F32:L32) -> 14 | N32: =Д.П.!N29 -> 59 | Q32: =M32*N32 -> 826
A33: =A32+1 -> 22 | B33: слива свежая | F33: 20.5 | G33: =Д.П.!M30 -> 0 | M33: =SUM(F33:L33) -> 20.5 | N33: 180 | Q33: =M33*N33 -> 3690
A34: =A33+1 -> 23 | B34: =Д.П.!H31 -> огурец солёный | G34: =Д.П.!M31 -> 0.5 | M34: =SUM(F34:L34) -> 0.5 | N34: =Д.П.!N31 -> 400 | Q34: =M34*N34 -> 200
A35: =A34+1 -> 24 | B35: =Д.П.!H32 -> Зелёный горошек | G35: =Д.П.!M32 -> 0.6 | M35: =SUM(F35:L35) -> 0.6 | N35: =Д.П.!N32 -> 185.88 | Q35: =M35*N35 -> 111.528
A36: =A35+1 -> 25 | B36: =Д.П.!H33 -> рыба | G36: =Д.П.!M33 -> 1 | M36: =SUM(F36:L36) -> 1 | N36: =Д.П.!N33 -> 610 | Q36: =M36*N36 -> 610
A37: =A36+1 -> 26 | B37: шиповник | F37: 3.3 | G37: =Д.П.!M34 -> 0 | M37: =SUM(F37:L37) -> 3.3 | N37: 290 | Q37: =M37*N37 -> 957
A38: =A37+1 -> 27 | B38: Десерт | F38: 7 | G38: =Д.П.!M35 -> 0 | M38: =SUM(F38:L38) -> 7 | N38: 345.32 | Q38: =M38*N38 -> 2417.24
A39: =A38+1 -> 28 | B39: =Д.П.!H36 -> хлеб | F39: 8.4 | G39: =Д.П.!M36 -> 0 | M39: =SUM(F39:L39) -> 8.4 | N39: 62.86 | Q39: =M39*N39 -> 528.024
A40: =A39+1 -> 29 | B40: =Д.П.!H37 -> цикорий | G40: =Д.П.!M37 -> 0.45 | M40: =SUM(F40:L40) -> 0.45 | N40: =Д.П.!N37 -> 3484.67 | Q40: =M40*N40 -> 1568.1015
A41: =A40+1 -> 30 | B41: хлеб | F41: 6 | G41: =Д.П.!M38 -> 0 | M41: =SUM(F41:L41) -> 6 | N41: 78.33 | Q41: =M41*N41 -> 469.98
A42: =A41+1 -> 31 | B42: ягоды | F42: 0.86 | M42: =SUM(F42:L42) -> 0.86 | N42: 630 | Q42: =M42*N42 -> 541.8
A43: =A42+1 -> 32 | B43: конфеты | F43: 4.4 | M43: =SUM(F43:L43) -> 4.4 | N43: 391.01 | Q43: =M43*N43 -> 1720.444
A44: =A43+1 -> 33 | B44: Греча | G44: =Д.П.!M41 -> 0 | H44: 3.5 | I44: 0.5 | J44: 0.5 | M44: =SUM(F44:L44) -> 4.5 | N44: 49 | Q44: =M44*N44 -> 220.5
A45: =A44+1 -> 34 | B45: компотная смесь | G45: =Д.П.!M42 -> 0 | H45: 0.6 | I45: 0.3 | J45: 0.3 | M45: =SUM(F45:L45) -> 1.2 | N45: 230 | Q45: =M45*N45 -> 276
A46: =A45+1 -> 35 | B46: выпечка | G46: =Д.П.!M43 -> 0 | H46: 40 | I46: 10 | M46: =SUM(F46:L46) -> 50 | N46: 12 | Q46: =M46*N46 -> 600
A47: =A46+1 -> 36 | B47: выпечка | G47: =Д.П.!M44 -> 0 | H47: 50 | M47: =SUM(F47:L47) -> 50 | N47: 55 | Q47: =M47*N47 -> 2750 | T47: =СВО!O26 -> 0
A48: =A47+1 -> 37 | M48: =SUM(F48:L48) -> 0 | N48: 0 | Q48: =M48*N48 -> 0 | T48: =СВО!O27 -> 748.5392
B49: шеф - повар: Антонова Н.А. | Q49: =SUM(Q12:Q48) -> 43144.35 | T49: =ГПД!O27 -> 1138.1828
T50: =ОВЗ!O25 -> 2677.9336
T51: =Б.П.!N28 -> 12433.511
T52: =Д.П.!O42 -> 12556.183
T53: =SUM(T46:T52) -> 29554.35 | U53: =Q49-T53 -> 13590

Sheet ОВЗ
A1: Меню - требование | I1: =Д.П.!H1 -> Утверждаю: 02 декабря 2025г
A3: калькуляционная карточка | I3: Директор МБОУ"КСШ"__Антропова Л.Л.
A5: Сборник рецептур блюд ШОУ 2018г
A6: Дети с ОВЗ (бесплатное питание) | I6: Заборный лист:
A8: наименование: | D8: на 1 пор.гр | E8: кол-во | F8: цена | G8: сумма | I8: наименование: | M8: кол-во | N8: цена | O8: сумма
A9: Завтрак: | H9: 30 пор
I10: =A10 -> 0 | M10: =E10 -> 0 | N10: =F10 -> 0 | O10: =M10*N10 -> 0
A11: фрукты | I11: =A11 -> фрукты | M11: =E11 -> 0 | N11: =F11 -> 0 | O11: =M11*N11 -> 0
A12: ОБЕД: | G12: =E12*F12 -> 0 | I12: картофель | M12: =E14 -> 3.15 | N12: =F14 -> 30 | O12: =M12*N12 -> 94.5
A13: Щи из капусты с картофелем | D13: 250/10 | F13: ТК №59(1) | I13: капуста свежая | M13: =E15 -> 2.1 | N13: =F15 -> 45 | O13: =M13*N13 -> 94.5
A14: картофель | D14: 0.1 | E14: 3.15 | F14: =Д.П.!F10 -> 30 | G14: =E14*F14 -> 94.5 | I14: лук репчатый | M14: =E16+E24+E33 -> 3.91 | N14: =F16 -> 55 | O14: =M14*N14 -> 215.05
A15: капуста свежая | D15: 0.062 | E15: 2.1 | F15: 45 | G15: =E15*F15 -> 94.5 | I15: морковь | M15: =E18+E31 -> 5.4 | N15: =F18 -> 65 | O15: =M15*N15 -> 351
A16: лук репчатый | D16: 0.012 | E16: 0.4 | F16: =Д.П.!F12 -> 55 | G16: =E16*F16 -> 22 | I16: масло растительное | M16: =E19+E23+E34 -> 0.77 | N16: =F19 -> 162.18 | O16: =M16*N16 -> 124.8786
A17: томат паста | D17: 0.04 | E17: 0 | F17: =Д.П.!F13 -> 260 | G17: =E17*F17 -> 0 | I17: =A28 -> греча. | M17: =E28 -> 3.5 | N17: =F28 -> 49 | O17: =M17*N17 -> 171.5
A18: морковь | D18: 0.012 | E18: 0.4 | F18: =Д.П.!F14 -> 65 | G18: =E18*F18 -> 26 | I18: =A32 -> кукуруза сладкая | M18: =E32 -> 0 | N18: =F32 -> 223.53 | O18: =M18*N18 -> 0
A19: масло растительное | D19: 0.004 | E19: 0.42 | F19: =Д.П.!F45 -> 162.18 | G19: =E19*F19 -> 68.1156 | I19: =A20 -> мясо. | M19: =E20+E22 -> 2.31 | N19: =F20 -> 500 | O19: =M19*N19 -> 1155
A20: мясо. | D20: 0.027 | E20: 0.81 | F20: =Д.П.!F16 -> 500 | G20: =E20*F20 -> 405 | I20: =A26 -> мука | M20: =E26 -> 0.12 | N20: =F26 -> 39 | O20: =M20*N20 -> 4.68
A21: Гуляш мясной | D21: 70/50 | F21: ТК №180 | I21: =A37 -> сахар | M21: =E37 -> 0.7 | N21: =F37 -> 75 | O21: =M21*N21 -> 52.5
A22: Мясо говядина | D22: 151/111 | E22: 1.5 | F22: =F20 -> 500 | G22: =E22*F22 -> 750 | I22: масло сливочное | M22: =E29 -> 0.15 | N22: =F29 -> 975.5 | O22: =M22*N22 -> 146.325
A23: масло растительное | D23: 6.5 | E23: 0.2 | F23: =F19 -> 162.18 | G23: =E23*F23 -> 32.436 | I23: томат паста | M23: =E17+E25 -> 0.5 | N23: =F17 -> 260 | O23: =M23*N23 -> 130
A24: лук репчатый | D24: 17 | E24: 0.51 | F24: =F16 -> 55 | G24: =E24*F24 -> 28.05 | I24: =A36 -> компотная смесь | M24: =E36 -> 0.6 | N24: =F36 -> 230 | O24: =M24*N24 -> 138
A25: томат паста | D25: 11 | E25: 0.5 | F25: =F17 -> 260 | G25: =E25*F25 -> 130 | O25: =SUM(O9:O24) -> 2677.9336 | P25: 30 | Q25: =O25/P25 -> 89.264453
A26: мука | D26: 3.7 | E26: 0.12 | F26: 39 | G26: =E26*F26 -> 4.68
A27: Греча отварная | D27: 150 | F27: ТК №183(2)
A28: греча. | D28: 55.5 | E28: 3.5 | F28: 49 | G28: =E28*F28 -> 171.5
A29: масло сливочное | D29: 5 | E29: 0.15 | F29: 975.5 | G29: =E29*F29 -> 146.325 | I29: шеф - повар: Антонова Н.А.
A30: Салат морковный | D30: 60
A31: морковь | D31: 0.06 | E31: 5 | F31: 65 | G31: =E31*F31 -> 325
A32: кукуруза сладкая | D32: 0.05 | E32: 0 | F32: 223.53 | G32: =E32*F32 -> 0
A33: лук репчатый (обжареный) | D33: 0.025 | E33: 3 | F33: 55 | G33: =E33*F33 -> 165
A34: масло растительное | D34: 0.005 | E34: 0.15 | F34: =F23 -> 162.18 | G34: =E34*F34 -> 24.327
A35: компот | D35: 200 | G35: =E35*F35 -> 0
A36: компотная смесь | D36: 20 | E36: 0.6 | F36: 230 | G36: =E36*F36 -> 138
A37: сахар | D37: 0.02 | E37: 0.7 | F37: =Д.П.!F26 -> 75 | G37: =E37*F37 -> 52.5
G38: =SUM(G10:G37) -> 2677.9336

Sheet ГПД
A1: Меню - требование | H1: =ОВЗ!I1 -> Утверждаю: 02 декабря 2025г
A3: калькуляционная карточка | H3: Директор МБОУ"КСШ"__Антропова Л.Л.
A5: Сборник рецептур блюд ШОУ 2018г
A6: Дети " ВНЕУРОЧКА" | H6: Заборный лист:
A7: чел
A8: наименование: | D8: на 1 пор.гр | E8: кол-во | F8: цена | G8: сумма | H8: наименование: | L8: кол-во | M8: цена | N8: сумма
A9: ОБЕД: | G9: =E9*F9 -> 0 | H9: 30 пор | I9: =A38 -> Булочка Дорожная | M9: =E38 -> 10 | N9: =F38 -> 12 | O9: =M9*N9 -> 120
A10: Щи из капусты с картофелем | D10: 250/10 | F10: ТК №59(1) | I10: =A40 -> чай. | M10: =E40 -> 0.01 | N10: =F40 -> 1300 | O10: =M10*N10 -> 13
A11: картофель | D11: 0.1 | E11: 1 | F11: =Д.П.!F10 -> 30 | G11: =E11*F11 -> 30
A12: капуста свежая | D12: 0.062 | E12: 0.65 | F12: 45 | G12: =E12*F12 -> 29.25 | I12: картофель | M12: =E11 -> 1 | N12: =F11 -> 30 | O12: =M12*N12 -> 30
A13: лук репчатый | D13: 0.012 | E13: 0.12 | F13: =Д.П.!F12 -> 55 | G13: =E13*F13 -> 6.6 | I13: капуста свежая | M13: =E12 -> 0.65 | N13: =F12 -> 45 | O13: =M13*N13 -> 29.25
A14: томат паста | D14: 0.04 | E14: 0 | F14: =Д.П.!F13 -> 260 | G14: =E14*F14 -> 0 | I14: лук репчатый | M14: =E13+E21+E30 -> 0.54 | N14: =F13 -> 55 | O14: =M14*N14 -> 29.7
A15: морковь | D15: 0.012 | E15: 0.18 | F15: =Д.П.!F14 -> 65 | G15: =E15*F15 -> 11.7 | I15: морковь | M15: =E15+E28 -> 0.78 | N15: =F15 -> 65 | O15: =M15*N15 -> 50.7
A16: масло растительное | D16: 0.004 | E16: 0.06 | F16: =ОВЗ!F19 -> 162.18 | G16: =E16*F16 -> 9.7308 | I16: масло растительное | M16: =E16+E20+E31 -> 0.21 | N16: =F16 -> 162.18 | O16: =M16*N16 -> 34.0578
A17: мясо говядина | D17: 0.027 | E17: 0.27 | F17: =ОВЗ!F20 -> 500 | G17: =E17*F17 -> 135 | I17: =A25 -> греча. | M17: =E25 -> 0.5 | N17: =F25 -> 49 | O17: =M17*N17 -> 24.5
A18: Гуляш мясной | D18: 70/50 | F18: ТК №180 | I18: =A29 -> кукуруза сладкая | M18: =E29 -> 0 | N18: =F29 -> 223.53 | O18: =M18*N18 -> 0
A19: Мясо говядина | D19: 151/111 | E19: 1 | F19: =ОВЗ!F22 -> 500 | G19: =E19*F19 -> 500 | I19: =A17 -> мясо говядина | M19: =E17+E19 -> 1.27 | N19: =F17 -> 500 | O19: =M19*N19 -> 635
A20: масло растительное | D20: 6.5 | E20: 0.1 | F20: =F16 -> 162.18 | G20: =E20*F20 -> 16.218 | I20: =A23 -> мука | M20: =E23 -> 0.05 | N20: =F23 -> 39 | O20: =M20*N20 -> 1.95
A21: лук репчатый | D21: 17 | E21: 0.17 | F21: =F13 -> 55 | G21: =E21*F21 -> 9.35 | I21: =A34 -> сахар | M21: =E34+E41 -> 0.35 | N21: =F34 -> 75 | O21: =M21*N21 -> 26.25
A22: томат паста | D22: 11 | E22: 0.1 | F22: =F14 -> 260 | G22: =E22*F22 -> 26 | I22: масло сливочное | M22: =E26+E37 -> 0.05 | N22: =F26 -> 975.5 | O22: =M22*N22 -> 48.775
A23: мука | D23: 3.7 | E23: 0.05 | F23: =ОВЗ!F26 -> 39 | G23: =E23*F23 -> 1.95 | I23: томат паста | M23: =E14+E22 -> 0.1 | N23: =F14 -> 260 | O23: =M23*N23 -> 26
A24: Греча отварная | D24: 150 | F24: ТК №183(2) | I24: =A33 -> компотная смесь | M24: =E33 -> 0.3 | N24: =F33 -> 230 | O24: =M24*N24 -> 69
A25: греча. | D25: 55.5 | E25: 0.5 | F25: =ОВЗ!F28 -> 49 | G25: =E25*F25 -> 24.5 | I25: =A36 -> яйцо столовое | M25: =E36 -> 0 | N25: =F36 -> 7 | O25: =M25*N25 -> 0 | P25: =G43-O27 -> 0
A26: масло сливочное | D26: 5 | E26: 0.05 | F26: =ОВЗ!F29 -> 975.5 | G26: =E26*F26 -> 48.775
A27: Салат морковный | D27: 60 | O27: =SUM(O9:O26) -> 1138.1828
A28: морковь | D28: 0.06 | E28: 0.6 | F28: =ОВЗ!F31 -> 65 | G28: =E28*F28 -> 39 | M28: наценка | N28: 1.4 | O28: =O27*N28 -> 1593.4559
A29: кукуруза сладкая | D29: 0.05 | E29: 0 | F29: =ОВЗ!F32 -> 223.53 | G29: =E29*F29 -> 0 | O29: =O28-O27 -> 455.27312
A30: лук репчатый (обжареный) | D30: 0.025 | E30: 0.25 | F30: =ОВЗ!F33 -> 55 | G30: =E30*F30 -> 13.75
A31: масло растительное | D31: 0.005 | E31: 0.05 | F31: =ОВЗ!F34 -> 162.18 | G31: =E31*F31 -> 8.109 | I31: шеф - повар: Антонова Н.А.
A32: =ОВЗ!A35 -> компот | D32: 200 | G32: =E32*F32 -> 0
A33: =ОВЗ!A36 -> компотная смесь | D33: 30 | E33: 0.3 | F33: =ОВЗ!F36 -> 230 | G33: =E33*F33 -> 69
A34: сахар | D34: 0.02 | E34: 0.2 | F34: =ОВЗ!F37 -> 75 | G34: =E34*F34 -> 15
A35: Полдник | G35: =SUM(G9:G34) -> 993.9328
A36: яйцо столовое | D36: 0.04 | E36: 0 | F36: 7 | G36: =E36*F36 -> 0
A37: масло сливочное | D37: 0.01 | E37: 0 | F37: 975.5 | G37: =E37*F37 -> 0
A38: Булочка Дорожная | D38: 0.05 | E38: 10 | F38: 12 | G38: =E38*F38 -> 120
A39: Чай сладкий | F39: ТК №302(2)
A40: чай. | D40: 0.001 | E40: 0.01 | F40: 1300 | G40: =E40*F40 -> 13
A41: сахар | D41: 0.015 | E41: 0.15 | F41: =F34 -> 75 | G41: =E41*F41 -> 11.25
G42: =SUM(G36:G41) -> 144.25
F43: итого: | G43: =G35+G42 -> 1138.1828

Sheet выпечка
H1: =ГПД!H1 -> Утверждаю: 02 декабря 2025г
A3: калькуляционная карточка | H3: Директор МБОУ"КСШ"__Антропова Л.Л.
A5: Сборник рецептур блюд и ТК 2018г
A6: выпечка | H6: Заборный лист:
A8: наименование: | D8: на 1 пор.гр | E8: кол-во | F8: цена | G8: сумма | H8: наименование: | L8: кол-во | M8: цена | N8: сумма
A9: шаньги с картофелем | D9: 100 | E9: 100 | H9: =A10 -> мука | L9: =E10+E18+E26+E33 -> 18.4 | M9: =F10 -> 53.95 | N9: =L9*M9 -> 992.68
A10: мука | D10: =E10/E9 -> 0.045 | E10: 4.5 | F10: =F18 -> 53.95 | G10: =E10*F10 -> 242.775 | H10: =A11 -> сахар | L10: =E11+E19+E28+E34 -> 3.2 | M10: =F11 -> 75 | N10: =L10*M10 -> 240
A11: сахар | D11: =E11/E10 -> 0.066666667 | E11: 0.3 | F11: =F19 -> 75 | G11: =E11*F11 -> 22.5 | H11: =A12 -> маргарин | L11: =E12+E20+E29+E35 -> 5.3 | M11: =F12 -> 195 | N11: =L11*M11 -> 1033.5
A12: маргарин | D12: =E12/E9 -> 0.023 | E12: 2.3 | F12: =F20 -> 195 | G12: =E12*F12 -> 448.5 | H12: =A14 -> дрожжи | L12: =E14+E21+E27+E36 -> 0.3 | M12: =F14 -> 158 | N12: =L12*M12 -> 47.4
A13: яйцо | D13: =E13/E9 -> 0.07 | E13: 7 | F13: 7 | G13: =F13*E13 -> 49 | H13: =A13 -> яйцо | L13: =E13+E30 -> 19 | M13: =F13 -> 7 | N13: =L13*M13 -> 133
A14: дрожжи | D14: =E14/E9 -> 0.001 | E14: 0.1 | F14: 158 | G14: =E14*F14 -> 15.8 | H14: =A15 -> картофель | L14: =E15 -> 6 | M14: =F15 -> 30 | N14: =L14*M14 -> 180
A15: картофель | D15: =E15/E9 -> 0.06 | E15: 6 | F15: 30 | G15: =E15*F15 -> 180 | H15: =A37 -> молоко сгущёное варёное | L15: =E37 -> 1.25 | M15: =F37 -> 235 | N15: =L15*M15 -> 293.75
F16: =G16/E9 -> 9.58575 | G16: =SUM(G10:G15) -> 958.575 | H16: =A22 -> 0 | L16: =E22 -> 0 | M16: =F22 -> 0 | N16: =L16*M16 -> 0
A17: Булочка дрожжевая | D17: 100 | E17: 25
A18: мука | D18: =E18/E17 -> 0.1 | E18: 2.5 | F18: =F26 -> 53.95 | G18: =E18*F18 -> 134.875 | N18: =SUM(N9:N16) -> 2920.33 | O18: =G40-N18 -> 0
A19: сахар | D19: =E19/E17 -> 0.016 | E19: 0.4 | F19: =F28 -> 75 | G19: =E19*F19 -> 30
A20: маргарин | D20: =E20/E17 -> 0.016 | E20: 0.4 | F20: =F29 -> 195 | G20: =E20*F20 -> 78 | P20: 2
A21: =A14 -> дрожжи | D21: =E21/E17 -> 0.002 | E21: 0.05 | F21: 158 | G21: =F21*E21 -> 7.9
L22: 1 | M22: наценка | N22: =N18*P20 -> 5840.66
F23: =G23/E17 -> 10.031 | G23: =SUM(G18:G22) -> 250.775
A25: калачи сдобно дрожжевые | D25: 75 | E25: 150
A26: мука | D26: =E26/E25 -> 0.06 | E26: 9 | F26: 53.95 | G26: =E26*F26 -> 485.55
A27: дрожжи | D27: 0.001 | E27: 0.1 | F27: 158 | G27: =E27*F27 -> 15.8 | H27: шеф повар ; Антонова Н.А.
A28: сахар | D28: =E28/E25 -> 0.014666667 | E28: 2.2 | F28: 75 | G28: =E28*F28 -> 165
A29: маргарин | D29: =E29/E25 -> 0.015333333 | E29: 2.3 | F29: 195 | G29: =E29*F29 -> 448.5
A30: яйцо | D30: =E30/E25 -> 0.08 | E30: 12 | F30: 7 | G30: =F30*E30 -> 84
F31: =G31/E25 -> 7.9923333 | G31: =SUM(G26:G30) -> 1198.85
A32: Рогалик с варёной сгущёнкой | D32: 100 | E32: 50
A33: мука | D33: =E33/E32 -> 0.048 | E33: 2.4 | F33: =F26 -> 53.95 | G33: =E33*F33 -> 129.48
A34: сахар | D34: =E34/E33 -> 0.125 | E34: 0.3 | F34: =F28 -> 75 | G34: =E34*F34 -> 22.5
A35: маргарин | D35: =E35/E32 -> 0.006 | E35: 0.3 | F35: 195 | G35: =E35*F35 -> 58.5
A36: дрожжи | D36: =E36/E32 -> 0.001 | E36: 0.05 | F36: 158 | G36: =E36*F36 -> 7.9
A37: молоко сгущёное варёное | D37: =E37/E32 -> 0.025 | E37: 1.25 | F37: 235 | G37: =E37*F37 -> 293.75
F38: =G38/E32 -> 10.2426 | G38: =SUM(G33:G37) -> 512.13
G40: =G38+G31+G23+G16 -> 2920.33

Sheet СВО
A1: Меню - требование | I1: =ГПД!H1 -> Утверждаю: 02 декабря 2025г
A3: калькуляционная карточка | I3: Директор МБОУ"КСШ"__Антропова Л.Л.
A5: Сборник рецептур блюд ШОУ 2018г
A6: СВО | I6: Заборный лист:
A7: чел
A8: наименование: | D8: на 1 пор.гр | E8: кол-во | F8: цена | G8: сумма | I8: наименование: | M8: кол-во | N8: цена | O8: сумма
A9: Завтрак: | H9: 30 пор | I9: =A41 -> 0 | M9: =E41 -> 0 | N9: =F41 -> 0 | O9: =M9*N9 -> 0
I10: =A43 -> 0 | M10: =E43 -> 0 | N10: =F43 -> 0 | O10: =M10*N10 -> 0
A11: фрукты | I11: =A11 -> фрукты | M11: =E11 -> 0 | N11: =F11 -> 0 | O11: =M11*N11 -> 0
A12: ОБЕД: | G12: =E12*F12 -> 0 | I12: картофель | M12: =E14 -> 0.5 | N12: =F14 -> 30 | O12: =M12*N12 -> 15
A13: Щи из капусты с картофелем | D13: 250/10 | F13: ТК №59(1) | I13: капуста свежая | M13: =E15 -> 0.3 | N13: =F15 -> 45 | O13: =M13*N13 -> 13.5
A14: картофель | D14: 0.1 | E14: 0.5 | F14: =ГПД!F11 -> 30 | G14: =E14*F14 -> 15 | I14: лук репчатый | M14: =E16+E24+E33 -> 0.35 | N14: =F16 -> 55 | O14: =M14*N14 -> 19.25
A15: капуста свежая | D15: 0.062 | E15: 0.3 | F15: =ГПД!F12 -> 45 | G15: =E15*F15 -> 13.5 | I15: морковь | M15: =E18+E31 -> 0.65 | N15: =F18 -> 65 | O15: =M15*N15 -> 42.25
A16: лук репчатый | D16: 0.012 | E16: 0.05 | F16: =ГПД!F13 -> 55 | G16: =E16*F16 -> 2.75 | I16: масло растительное | M16: =E19+E23+E34 -> 0.19 | N16: =F19 -> 162.18 | O16: =M16*N16 -> 30.8142
A17: томат паста | D17: 0.04 | E17: 0.05 | F17: =ГПД!F14 -> 260 | G17: =E17*F17 -> 13 | I17: =A28 -> греча. | M17: =E28 -> 0.5 | N17: =F28 -> 49 | O17: =M17*N17 -> 24.5
A18: морковь | D18: 0.012 | E18: 0.05 | F18: =ГПД!F15 -> 65 | G18: =E18*F18 -> 3.25 | I18: =A32 -> кукуруза сладкая | M18: =E32 -> 0 | N18: =F32 -> 223.53 | O18: =M18*N18 -> 0
A19: масло растительное | D19: 0.004 | E19: 0.04 | F19: =ГПД!F16 -> 162.18 | G19: =E19*F19 -> 6.4872 | I19: =A20 -> мясо говядина | M19: =E20+E22 -> 0.885 | N19: =F20 -> 500 | O19: =M19*N19 -> 442.5
A20: мясо говядина | D20: 0.027 | E20: 0.135 | F20: =ГПД!F17 -> 500 | G20: =E20*F20 -> 67.5 | I20: =A26 -> мука | M20: =E26 -> 0.05 | N20: =F26 -> 39 | O20: =M20*N20 -> 1.95
A21: Гуляш мясной | D21: 70/50 | F21: ТК №180 | I21: =A37 -> сахар | M21: =E37+E44 -> 0.2 | N21: =F37 -> 75 | O21: =M21*N21 -> 15
A22: Мясо говядина | D22: 151/111 | E22: 0.75 | F22: =ГПД!F19 -> 500 | G22: =E22*F22 -> 375 | I22: масло сливочное | M22: =E29+E40 -> 0.05 | N22: =F29 -> 975.5 | O22: =M22*N22 -> 48.775
A23: масло растительное | D23: 6.5 | E23: 0.1 | F23: =ГПД!F20 -> 162.18 | G23: =E23*F23 -> 16.218 | I23: томат паста | M23: =E17+E25 -> 0.1 | N23: =F17 -> 260 | O23: =M23*N23 -> 26
A24: лук репчатый | D24: 17 | E24: 0.05 | F24: =ГПД!F21 -> 55 | G24: =E24*F24 -> 2.75 | I24: =A36 -> компотная смесь | M24: =E36 -> 0.3 | N24: =F36 -> 230 | O24: =M24*N24 -> 69
A25: томат паста | D25: 11 | E25: 0.05 | F25: =ГПД!F22 -> 260 | G25: =E25*F25 -> 13 | I25: =A39 -> 0 | M25: =E39 -> 0 | N25: =F39 -> 0 | O25: =M25*N25 -> 0
A26: мука | D26: 3.7 | E26: 0.05 | F26: =ОВЗ!F26 -> 39 | G26: =E26*F26 -> 1.95
A27: Греча отварная | D27: 150 | F27: ТК №183(2) | O27: =SUM(O9:O26) -> 748.5392 | P27: 10 | Q27: =O27/P27 -> 74.85392
A28: греча. | D28: 55.5 | E28: 0.5 | F28: =ГПД!F25 -> 49 | G28: =E28*F28 -> 24.5
A29: масло сливочное | D29: 5 | E29: 0.05 | F29: =ГПД!F26 -> 975.5 | G29: =E29*F29 -> 48.775
A30: Салат морковный | D30: 60
A31: морковь | D31: 0.06 | E31: 0.6 | F31: =ГПД!F28 -> 65 | G31: =E31*F31 -> 39 | I31: шеф - повар: Антонова Н.А.
A32: кукуруза сладкая | D32: 0.05 | E32: 0 | F32: =ГПД!F29 -> 223.53 | G32: =E32*F32 -> 0
A33: лук репчатый (обжареный) | D33: 0.025 | E33: 0.25 | F33: =ГПД!F30 -> 55 | G33: =E33*F33 -> 13.75
A34: масло растительное | D34: 0.005 | E34: 0.05 | F34: =ГПД!F31 -> 162.18 | G34: =E34*F34 -> 8.109
A35: =ГПД!A32 -> компот | D35: 200 | G35: =E35*F35 -> 0
A36: =ГПД!A33 -> компотная смесь | D36: 30 | E36: 0.3 | F36: =ГПД!F33 -> 230 | G36: =E36*F36 -> 69
A37: сахар | D37: 0.02 | E37: 0.2 | F37: =ГПД!F34 -> 75 | G37: =E37*F37 -> 15
G38: =SUM(G10:G37) -> 748.5392
F46: итого: | G46: =G38+G45 -> 748.5392
