Workbook

Sheet ХЛЕБ
F2: Приложение
F3: к договору на поставку
F4: продуктов питания №______
F5: от "__площадка__ 2016__г.
C7: СПЕЦИФИКАЦИЯ | E7: НАЧАЛЬНАЯ
A9: № | B9: НАИМЕНОВАНИЕ ТОВАРА | F9: ЕД.ИЗМЕР | G9: КОЛ-ВО | H9: ЦЕНА | I9: СУММА
A10: 1 | B10: хлеб столичный 0,7 | F10: шт | H10: 23.5 | I10: =H10*G10 -> 0
A11: 2 | B11: хлеб пшеничный в/с 0,6 | F11: шт | H11: 26 | I11: =H11*G11 -> 0
A12: 3 | B12: батон "сельский" 0,4 | F12: шт | H12: 22 | I12: =H12*G12 -> 0
I13: =H13*G13 -> 0
I14: =H14*G14 -> 0
I15: =H15*G15 -> 0
I16: =SUM(I10:I15) -> 0
B39: Поставщик: | F39: Покупатель:
A41: ____________ ИП Поникаровская Е.В. | F41: ________________ Анисимова Л.Н.

Sheet мясо
F2: Приложение
F3: к договору на поставку
F4: продуктов питания №______
F5: от "______ 2016__г.
C7: СПЕЦИФИКАЦИЯ | E7: НАЧАЛЬНАЯ площадка
A9: № | B9: НАИМЕНОВАНИЕ ТОВАРА | F9: ЕД.ИЗМЕР | G9: КОЛ-ВО | H9: ЦЕНА | I9: СУММА
A10: 1 | B10: говядина | F10: кг | G10: 179 | H10: 260 | I10: =H10*G10 -> 46540
I11: =H11*G11 -> 0
I12: =SUM(I10:I11) -> 46540
B39: Поставщик: | F39: Покупатель:
A41: ____________ ИП Поршнева А.В. | F41: ________________ Анисимова Л.Н.

Sheet Б.П.
I1: Утверждаю: 01 декабря 2025г
A3: калькуляционная карточка | I3: Директор МБОУ"КСШ"__________________Антропова Л.Л.
A5: Сборник рецептур блюд ШОУ 2018г
A6: горячее питание учащихся с 1 по 4класс | I6: Заборный лист:
A7: количество детей: чел.
A8: наименование: | D8: на 1 пор.гр | E8: кол-во | F8: цена | H8: сумма | I8: наименование: | M8: кол-во | N8: цена | O8: сумма
A9: каша МОЛОЧНАЯ | D9: 200/7 | E9: 200 | F9: ТК№112 | I9: =A10 -> крупа пшеничная | M9: =E10 -> 5.4 | N9: =F10 -> 43 | O9: =M9*N9 -> 232.2
A10: крупа пшеничная | D10: 0.05 | E10: 5.4 | F10: 43 | H10: =E10*F10 -> 232.2
A11: молоко сухое | D11: =E11/E9 -> 0.0235 | E11: 4.7 | F11: 507.42 | H11: =E11*F11 -> 2384.874 | I11: =A11 -> молоко сухое | M11: =E11 -> 4.7 | N11: =F11 -> 507.42 | O11: =M11*N11 -> 2384.874
A12: крупа рис | E12: 5 | F12: 98 | H12: =E12*F12 -> 490 | I12: =A12 -> крупа рис | M12: =E12 -> 5 | N12: =F12 -> 98 | O12: =M12*N12 -> 490
A13: сахар | D13: 0.005 | E13: 1.2 | F13: 75 | H13: =E13*F13 -> 90 | I13: =A13 -> сахар | M13: =E13+E20 -> 5.9 | N13: =F13 -> 75 | O13: =M13*N13 -> 442.5
A14: масло сливочное | D14: 0.005 | E14: 1.2 | F14: 975.5 | H14: =E14*F14 -> 1170.6 | I14: =A14 -> масло сливочное | M14: =E14+E24 -> 4.725 | N14: =F14 -> 975.5 | O14: =M14*N14 -> 4609.2375
I15: =A15 -> 0 | M15: =E15 -> 0 | N15: =F15 -> 0 | O15: =M15*N15 -> 0
A16: соль | D16: =E16/E9 -> 0.005 | E16: 1 | F16: 20 | H16: =E16*F16 -> 20 | I16: =A16 -> соль | M16: =E16 -> 1 | N16: =F16 -> 20 | O16: =M16*N16 -> 20
A17: Кофейный напиток | D17: 200 | F17: ТК№271 | I17: =A18 -> кофейный напиток | M17: =E18 -> 1.2 | N17: =F18 -> 655.2 | O17: =M17*N17 -> 786.24
A18: кофейный напиток | D18: 0.003 | E18: 1.2 | F18: 655.2 | H18: =E18*F18 -> 786.24 | I18: =A19 -> молоко | M18: =E19 -> 25 | N18: =F19 -> 86.66 | O18: =M18*N18 -> 2166.5
A19: молоко | D19: 0.02 | E19: 25 | F19: 86.66 | H19: =E19*F19 -> 2166.5 | I19: хлеб | M19: =E27 -> 0 | N19: =F27 -> 58.57 | O19: =M19*N19 -> 0
A20: сахар | D20: 0.02 | E20: 4.7 | F20: =F13 -> 75 | H20: =E20*F20 -> 352.5 | I20: =A22 -> Сыр Обский | M20: =E22 -> 6 | N20: =F22 -> 744.4 | O20: =M20*N20 -> 4466.4
F21: ТК№336 | I21: хлеб | M21: =E28 -> 0 | N21: =F28 -> 71.67 | O21: =M21*N21 -> 0
A22: Сыр Обский | D22: 0.03 | E22: 6 | F22: 744.4 | H22: =E22*F22 -> 4466.4 | I22: =A26 -> Батон нарезной | M22: =E26 -> 10 | N22: =F26 -> 112.5 | O22: =M22*N22 -> 1125
F23: ТК№365
A24: масло сливочное | D24: 0.015 | E24: 3.525 | F24: 975.5 | H24: =E24*F24 -> 3438.6375
A26: Батон нарезной | D26: 0.05 | E26: 10 | F26: 112.5 | H26: =E26*F26 -> 1125 | I26: =A29 -> Десерт | M26: =E29 -> 5 | N26: =F29 -> 345.32 | O26: =M26*N26 -> 1726.6
A27: хлеб | D27: =E27/E10 -> 0 | E27: 0 | F27: 58.57 | H27: =E27*F27 -> 0 | I27: =A31 -> 0 | M27: =E31 -> 0 | N27: =F31 -> 0 | O27: =M27*N27 -> 0
A28: хлеб | D28: =E28/E9 -> 0 | E28: 0 | F28: 71.67 | H28: =E28*F28 -> 0 | I28: =A32 -> 0 | M28: =E32 -> 0 | N28: =F32 -> 0 | O28: =M28*N28 -> 0
A29: Десерт | D29: =E29/E9 -> 0.025 | E29: 5 | F29: 345.32 | H29: =E29*F29 -> 1726.6 | N29: итого: | O29: =SUM(O9:O28) -> 18449.551 | T29: каша МОЛОЧНАЯ | W29: 200/7 | X29: 235 | Y29: ТК№112
H30: =SUM(H10:H29) -> 18449.551 | T30: крупа пшено | W30: 0.05 | X30: 11.75 | Y30: 43 | AA30: =X30*Y30 -> 505.25
T31: молоко сухое | W31: =X31/X29 -> 0.02 | X31: 4.7 | Y31: 507.42 | AA31: =X31*Y31 -> 2384.874
F33: итого: | H33: =H30+H31 -> 18449.551 | I33: шеф повар; | T33: сахар | W33: 0.005 | X33: 1.2 | Y33: 68 | AA33: =X33*Y33 -> 81.6
H34: =H33/E9 -> 92.247757 | T34: масло сливочное | W34: 0.005 | X34: 1.2 | Y34: 975.5 | AA34: =X34*Y34 -> 1170.6

Sheet Д.П.
H1: =Б.П.!I1 -> Утверждаю: 01 декабря 2025г | Q1: Утверждаю; 01 апреля 2024г
A3: калькуляционная карточка | H3: Директор МБОУ"КСШ"__________________Антропова Л.Л. | Q3: .Директора МБОУ"КСШ"____________Антропова Л.Л.
A5: Сборник рецептур блюд и ТК 2018г
A6: Дополнительное платное питание | H6: Заборный лист:
R7: МБОУ"Красноборская общеобразовательная средняя школа"
A8: наименование: | D8: на 1 пор.гр | E8: кол-во | F8: цена | G8: сумма | H8: наименование: | M8: кол-во | N8: цена | O8: сумма
A9: Суп картофельный с бобовыми | D9: 250/20 | E9: 30 | F9: ТК №45 | H9: =A10 -> картофель | M9: =E10 -> 2.4 | N9: =F10 -> 30 | O9: =M9*N9 -> 72 | T9: МЕНЮ
A10: картофель | D10: 0.08 | E10: =D10*E9 -> 2.4 | F10: 30 | G10: =E10*F10 -> 72 | H10: =A11 -> фасоль | M10: =E11 -> 3 | N10: =F11 -> 150 | O10: =M10*N10 -> 450 | Q10: 01 апреля 2024г
A11: фасоль | D11: 0.1 | E11: 3 | F11: 150 | G11: =E11*F11 -> 450 | H11: =A12 -> лук репчатый | M11: =E12+E22+E39 -> 1.86 | N11: =F12 -> 55 | O11: =M11*N11 -> 102.3
A12: лук репчатый | D12: 0.012 | E12: =D12*E9 -> 0.36 | F12: 55 | G12: =E12*F12 -> 19.8 | H12: =A13 -> морковь | M12: =E13+E40 -> 0.86 | N12: =F13 -> 65 | O12: =M12*N12 -> 55.9
A13: морковь | D13: 0.012 | E13: =D13*E9 -> 0.36 | F13: 65 | G13: =E13*F13 -> 23.4 | H13: =A14 -> масло растительное | M13: =E14+E25+E29+E34+E42+E50 -> 4.146 | N13: =F14 -> 162.18 | O13: =M13*N13 -> 672.39828 | Q13: Наименование; | U13: выход | V13: цена | X13: Б | Y13: Ж | Z13: У | AA13: Ккал
A14: масло растительное | D14: 0.005 | E14: =D14*E9 -> 0.15 | F14: 162.18 | G14: =E14*F14 -> 24.327 | H14: =A15 -> мясо | M14: =E20+E15 -> 4.81 | N14: =F15 -> 500 | O14: =M14*N14 -> 2405 | V14: 0.6 | W14: 0.4
A15: мясо | D15: 0.027 | E15: =D15*E9 -> 0.81 | F15: 500 | G15: =E15*F15 -> 405 | H15: =A16 -> зелень укроп | M15: =E16 -> 0 | N15: =F16 -> 200 | O15: =M15*N15 -> 0 | Q15: ХоЛОДНЫЕ БЛЮДА: | U15: гр
A16: зелень укроп | D16: 0.003 | E16: 0 | F16: 200 | G16: =E16*F16 -> 0 | H16: =A17 -> соль | M16: =E17 -> 1 | N16: =F17 -> 20 | O16: =M16*N16 -> 20 | Q16: Салат "Витаминный" | U16: 100/20 | V16: 23.4 | W16: 20.65
A17: соль | D17: 0.003 | E17: 1 | F17: 20 | G17: =E17*F17 -> 20 | H17: =A21 -> яйцо столовое | M17: =E21+E46+E55 -> 6 | N17: =F21 -> 7 | O17: =M17*N17 -> 42
G18: =SUM(G10:G17) -> 1014.527 | H18: =A23 -> мука | M18: =E23+E28+E45 -> 2.25 | N18: =F28 -> 39 | O18: =M18*N18 -> 87.75 | Q18: ПЕРВЫЕ БЛЮДА:
A19: Котлеты мясные с соусом | D19: 70 | E19: 50 | F19: ТК №189 | H19: =A27 -> молоко сухое | M19: =E27 -> 0.5 | N19: =F27 -> 588.3 | O19: =M19*N19 -> 294.15 | Q19: Суп картофельный с бобовыми и мясом | U19: 250/20 | V19: 26.08 | W19: 22.8
A20: мясо | D20: 0,081/0,06 | E20: 4 | F20: =F15 -> 500 | G20: =E20*F20 -> 2000 | H20: =A33 -> макароны. | M20: =E33 -> 2.45 | N20: =F33 -> 50.98 | O20: =M20*N20 -> 124.901 | Q20: Бульон куринный с яцом | U20: 250/20
A21: яйцо столовое | D21: 0.004 | E21: 5 | F21: 7 | G21: =E21*F21 -> 35 | H21: =A37 -> капуста свежая | M21: =E37 -> 2.24 | N21: =F37 -> 45 | O21: =M21*N21 -> 100.8 | Q21: ВТОРЫЕ БЛЮДА;
A22: лук репчатый | D22: 0.01 | E22: 1 | F22: =F12 -> 55 | G22: =E22*F22 -> 55 | H22: =A24 -> чеснок | M22: =E24 -> 0 | N22: =F24 -> 15 | O22: =M22*N22 -> 0
A23: мука | D23: 0.006 | E23: 0.6 | F23: 39 | G23: =E23*F23 -> 23.4 | H23: =A41 -> сахарный песок | M23: =E41+E48+M59 -> 6.19 | N23: =F41 -> 75 | O23: =M23*N23 -> 464.25 | Q23: Кура запечёная | U23: 100 | V23: 87.5 | W23: 76.5
A24: чеснок | D24: 0.001 | E24: 0 | F24: 15 | G24: =E24*F24 -> 0 | Q24: Котлеты мясные | U24: 80 | V24: 53.6 | W24: 46.9 | X24: 10.68 | Y24: 11.72 | Z24: 5.74
A25: масло растительное | D25: 0.006 | E25: 0.6 | F25: =F14 -> 162.18 | G25: =E25*F25 -> 97.308 | H25: =A30 -> томат паста | M25: =E30 -> 0.3 | N25: =F30 -> 260 | O25: =M25*N25 -> 78 | Q25: Котлеты мясные с соусом | U25: 80/30 | V25: 63.6 | W25: 55.64 | AA25: 176.75
A26: СОУС: | D26: =E26/$E$19 -> 0 | G26: =SUM(G20:G25) -> 2210.708 | H26: =A38 -> огурцы свежие | M26: =E38 -> 0 | N26: =F38 -> 170 | O26: =M26*N26 -> 0 | Q26: ГАРНИР;
A27: молоко сухое | D27: 0.005 | E27: 0.5 | F27: ='[1]ноябрь 2025г'!$AP$93 -> 588.3 | G27: =E27*F27 -> 294.15 | H27: =H69 -> ягоды свеж | M27: =M69 -> 0 | N27: =N69 -> 350 | O27: =M27*N27 -> 0 | Q27: макароны отварные | U27: 200 | V27: 12.6 | W27: 11.02
A28: мука | D28: 0.005 | E28: 0.15 | F28: =F23 -> 39 | G28: =E28*F28 -> 5.85 | H28: =H55 -> кура. | M28: =M55 -> 4.1 | N28: =N55 -> 233 | O28: =M28*N28 -> 955.3 | Q28: макароны отварные | U28: 100 | V28: 25.2 | W28: 22.04
A29: масло растительное | D29: 0.024 | E29: 0.796 | F29: =F14 -> 162.18 | G29: =E29*F29 -> 129.09528 | H29: =H56 -> майонез | M29: =E56+M56 -> 1 | N29: =N56 -> 264.57 | O29: =M29*N29 -> 264.57
A30: томат паста | D30: 0.005 | E30: 0.3 | F30: 260 | G30: =E30*F30 -> 78 | H30: дрожжи | M30: =E47 -> 0.05 | N30: =F47 -> 158 | O30: =M30*N30 -> 7.9
G31: =SUM(G27:G30) -> 507.09528 | H31: =A49 -> молоко сгущеное | M31: =E49 -> 1.2 | N31: =F49 -> 348.65 | O31: =M31*N31 -> 418.38 | Q31: НАПИТКИ:
A32: макароны отварные | D32: 200 | E32: 40 | F32: ТК №227 | H32: =H72 -> хлеб | M32: =M72 -> 4.2 | N32: =N72 -> 62.86 | O32: =M32*N32 -> 264.012 | Q32: ЧАЙ СЛАДКИЙ (одноразов) | U32: 200/15 | V32: 6.32 | W32: 5.5
A33: макароны. | D33: 0.068 | E33: 2.45 | F33: ='[1]ноябрь 2025г'!$AP$78 -> 50.98 | G33: =E33*F33 -> 124.901 | H33: =H73 -> хлеб | M33: =M73 -> 9 | N33: =N73 -> 78.33 | O33: =M33*N33 -> 704.97 | Q33: ЧАЙ СЛАДКИЙ С ЛИМОНОМ | U33: 200/15/10 | V33: 10 | W33: 8.75
A34: =A25 -> масло растительное | D34: 0.007 | E34: 0.6 | F34: =F29 -> 162.18 | G34: =E34*F34 -> 97.308 | H34: =H74 -> батон | M34: =M74 -> 0 | N34: =N74 -> 90 | O34: =M34*N34 -> 0 | Q34: Сок в ассортименте | U34: 200 | W34: 35
G35: =SUM(G33:G34) -> 222.209 | H35: =H63 -> кофе | M35: =M63 -> 0 | N35: =N63 -> 8.88 | O35: =M35*N35 -> 0 | Q35: кофе 3 в 1 | U35: 200
A36: Салат Витаминный | D36: 100 | E36: 30 | F36: ТК №02 | H36: =H64 -> кофе | M36: =M64 -> 0 | N36: 7.68 | O36: =M36*N36 -> 0 | Q36: кофе чёрный с молоком | U36: 200
A37: капуста свежая | D37: 0.1 | E37: 2.24 | F37: ='[1]ноябрь 2025г'!$AP$26 -> 45 | G37: =E37*F37 -> 100.8 | H37: =H58 -> чай | M37: =M58 -> 100 | N37: =N58 -> 3.18 | O37: =M37*N37 -> 318 | Q37: хлеб | U37: 30 | W37: 2
A38: огурцы свежие | D38: 0.03 | E38: 0 | F38: 170 | G38: =E38*F38 -> 0 | H38: =H66 -> контейнеры | M38: =M66 -> 0 | N38: =N66 -> 6.1 | O38: =M38*N38 -> 0 | Q38: Напиток ягодный | U38: 200 | V38: 16.5 | W38: 14.5
A39: лук репчатый | D39: 0.017 | E39: 0.5 | F39: =F22 -> 55 | G39: =E39*F39 -> 27.5 | H39: =H61 -> кислота лимонная | M39: =M61 -> 13 | N39: =N61 -> 16.1 | O39: =M39*N39 -> 209.3
A40: морковь | D40: 0.017 | E40: 0.5 | F40: =F13 -> 65 | G40: =E40*F40 -> 32.5 | H40: =H62 -> уксус | M40: =M62 -> 12 | N40: =N62 -> 34.6 | O40: =M40*N40 -> 415.2 | Q40: оладьи со сгущ. Молоком | U40: 100/20 | W40: 35
A41: сахарный песок | D41: 0.003 | E41: =D41*E36 -> 0.09 | F41: =Б.П.!F20 -> 75 | G41: =E41*F41 -> 6.75 | H41: =A52 -> Булочка с кунжутом | M41: =E52 -> 50 | N41: =F52 -> 15 | O41: =M41*N41 -> 750
A42: масло растительное | D42: 0.02 | E42: 1 | F42: =F25 -> 162.18 | G42: =E42*F42 -> 162.18 | H42: =A53 -> Рогалик с варён. Сгущ. | M42: =E53 -> 40 | N42: =F53 -> 20 | O42: =M42*N42 -> 800 | P42: =G59-O44 -> 0 | Q42: шеф повар :
F43: =G43/E36 -> 10.991 | G43: =SUM(G37:G42) -> 329.73 | Q43: повар:
A44: Оладьи со сгущ.молоком | E44: 20 | O44: =SUM(O9:O43) -> 10077.081
A45: мука | D45: 0.085 | E45: 1.5 | F45: =F28 -> 39 | G45: =F45*E45 -> 58.5
A46: яйцо столовое | D46: 0.004 | E46: 1 | F46: 7 | G46: =F46*E46 -> 7
A47: дрожжи | D47: 0.002 | E47: 0.05 | F47: 158 | G47: =F47*E47 -> 7.9 | H47: =G52+G53 -> 1550 | M47: 0 | N47: 0 | O47: 0
A48: сахар | D48: 0.005 | E48: 0.1 | F48: =F41 -> 75 | G48: =F48*E48 -> 7.5 | H48: =G26+G18 -> 3225.235 | M48: 0.4 | N48: =H48*1.4 -> 4515.329 | O48: =N48-H48 -> 1290.094
A49: молоко сгущеное | D49: 0.02 | E49: 1.2 | F49: 348.65 | G49: =F49*E49 -> 418.38 | H49: 4640.38 | M49: 0.6 | N49: =H49*1.6 -> 7424.608 | O49: =N49-H49 -> 2784.228
A50: масло растительное | D50: 0.02 | E50: 1 | F50: =F42 -> 162.18 | G50: =F50*E50 -> 162.18 | H50: =G51 -> 661.46 | M50: 1 | N50: =H50*2 -> 1322.92 | O50: =N50-H50 -> 661.46
G51: =SUM(G45:G50) -> 661.46 | H51: =O44 -> 10077.081 | M51: итого: | N51: =N48+N49+N50 -> 13262.857 | O51: =SUM(O48:O50) -> 4735.782 | P51: =N51-O51 -> 8527.075
A52: Булочка с кунжутом | D52: 0.05 | E52: 50 | F52: 15 | G52: =F52*E52 -> 750
A53: Рогалик с варён. Сгущ. | D53: 0.075 | E53: 40 | F53: 20 | G53: =F53*E53 -> 800
A54: Яйцо отварное с майонезом | E54: 20 | G54: =F54*E54 -> 0 | H54: Кура запечёая | K54: 150 | L54: 120 | M54: 30 | N54: 50
A55: яйцо столовое | D55: 0.04 | E55: 0 | F55: 8 | G55: =F55*E55 -> 0 | H55: кура. | K55: =M55/$M$54 -> 0.13666667 | L55: =M55/$M$54 -> 0.13666667 | M55: 4.1 | N55: 233 | O55: =M55*N55 -> 955.3
A56: майонез | D56: 0.02 | E56: 0 | F56: 215.22 | G56: =F56*E56 -> 0 | H56: майонез | K56: =M56/$M$54 -> 0.033333333 | L56: =M56/$M$54 -> 0.033333333 | M56: 1 | N56: ='[1]ноябрь 2025г'!$AP$73 -> 264.57 | O56: =M56*N56 -> 264.57
G57: =SUM(G52:G56) -> 1550 | N57: =O57/M54 -> 40.662333 | O57: =SUM(O55:O56) -> 1219.87
H58: чай | L58: =M58/$M$54 -> 3.3333333 | M58: 100 | N58: ='[1]ноябрь 2025г'!$AP$172 -> 3.18 | O58: =M58*N58 -> 318
F59: итого: | G59: =G57+G51+G43+G35+G31+G26+G18+O57+O60+O67+O75 -> 10077.081 | H59: сахар | L59: =M59/$M$54 -> 0.2 | M59: 6 | N59: 75 | O59: =M59*N59 -> 450
L60: =M60/$M$54 -> 0 | O60: =SUM(O58:O59) -> 768
H61: кислота лимонная | L61: 0.001 | M61: 13 | N61: 16.1 | O61: =M61*N61 -> 209.3
H62: уксус | L62: 0.001 | M62: 12 | N62: 34.6 | O62: =M62*N62 -> 415.2
H63: кофе | K63: 0.001 | L63: 0.0015 | M63: 0 | N63: 8.88 | O63: =M63*N63 -> 0
H64: кофе | K64: 0.001 | L64: 0.0015 | N64: 7.68 | O64: =M64*N64 -> 0
H65: сахар (0,015) | K65: 0.015 | L65: =M65/$M$54 -> 0 | N65: 85 | O65: =M65*N65 -> 0
H66: контейнеры | L66: 1 | N66: 6.1 | O66: =M66*N66 -> 0
L67: =M67/$M$54 -> 0 | O67: =SUM(O61:O66) -> 624.5
H68: Напиток ягодный | M68: 100 | N68: 100
H69: ягоды свеж | K69: =M69/M68 -> 0 | L69: =M69/$M$54 -> 0 | M69: 0 | N69: 350 | O69: =M69*N69 -> 0
H70: сахар | K70: =M70/M68 -> 0 | L70: =M70/$M$54 -> 0 | M70: 0 | N70: 85 | O70: =M70*N70 -> 0
L71: =M71/$M$54 -> 0 | N71: =O71/M68 -> 0 | O71: =SUM(O69:O70) -> 0
H72: хлеб | K72: =M72/M68 -> 0.042 | L72: =M72/$M$54 -> 0.14 | M72: 4.2 | N72: 62.86 | O72: =M72*N72 -> 264.012
H73: хлеб | K73: =M73/M68 -> 0.09 | L73: =M73/$M$54 -> 0.3 | M73: 9 | N73: 78.33 | O73: =M73*N73 -> 704.97
H74: батон | L74: =M74/$M$54 -> 0 | M74: 0 | N74: 90 | O74: =M74*N74 -> 0
O75: =SUM(O72:O74) -> 968.982
H77: шеф - повар; Антонова Н.А.

Sheet накладная
A1: МБОУ"Красноборская средняя школа" | I1: =Б.П.!I1 -> Утверждаю: 01 декабря 2025г
I3: Директора МБОУ"КСШ"___________Антропова Л.Л.
F7: Накладная
E8: =I1 -> Утверждаю: 01 декабря 2025г
A9: кому: КУХНЯ
A10: От кого; | B10: Антонова Н.А.
A11: №п/п | B11: Наименование: | F11: Б.П. | G11: Д.П. | H11: ОВЗ | I11: Внеурочка | K11: СВО | L11: выпечка | M11: итого | N11: цена | O11: сумма
A12: 1 | B12: =Д.П.!H9 -> картофель | G12: =Д.П.!M9 -> 2.4 | H12: 3 | I12: 1 | K12: 0.96 | M12: =SUM(F12:L12) -> 7.36 | N12: =Д.П.!N9 -> 30 | O12: =M12*N12 -> 220.8
A13: =A12+1 -> 2 | B13: =Д.П.!H10 -> фасоль | G13: =Д.П.!M10 -> 3 | H13: 1 | I13: 0.36 | K13: 0.72 | M13: =SUM(F13:L13) -> 5.08 | N13: =Д.П.!N10 -> 150 | O13: =M13*N13 -> 762
A14: =A13+1 -> 3 | B14: =Д.П.!H11 -> лук репчатый | G14: =Д.П.!M11 -> 1.86 | H14: 1.16 | I14: 0.63 | K14: 0.9 | M14: =SUM(F14:L14) -> 4.55 | N14: =Д.П.!N11 -> 55 | O14: =M14*N14 -> 250.25
A15: =A14+1 -> 4 | B15: =Д.П.!H12 -> морковь | G15: =Д.П.!M12 -> 0.86 | H15: 0.86 | I15: 0.48 | K15: 0.4 | M15: =SUM(F15:L15) -> 2.6 | N15: =Д.П.!N12 -> 65 | O15: =M15*N15 -> 169
A16: =A15+1 -> 5 | B16: =Д.П.!H13 -> масло растительное | G16: =Д.П.!M13 -> 4.146 | M16: =SUM(F16:L16) -> 4.146 | N16: =Д.П.!N13 -> 162.18 | O16: =M16*N16 -> 672.39828
A17: =A16+1 -> 6 | H17: 0.87 | I17: 0.48 | K17: 0.45 | M17: =SUM(F17:L17) -> 1.8 | N17: 162.18 | O17: =M17*N17 -> 291.924
A18: =A17+1 -> 7 | B18: =Д.П.!H14 -> мясо | G18: =Д.П.!M14 -> 4.81 | H18: 2.3 | I18: 1.07 | K18: 1.2 | M18: =SUM(F18:L18) -> 9.38 | N18: =Д.П.!N14 -> 500 | O18: =M18*N18 -> 4690
A19: =A18+1 -> 8 | B19: крупа пшено | F19: 5.4 | G19: =Д.П.!M15 -> 0 | M19: =SUM(F19:L19) -> 5.4 | N19: 43 | O19: =M19*N19 -> 232.2
A20: =A19+1 -> 9 | B20: =Д.П.!H16 -> соль | F20: 1 | G20: =Д.П.!M16 -> 1 | H20: 1 | M20: =SUM(F20:L20) -> 3 | N20: =Д.П.!N16 -> 20 | O20: =M20*N20 -> 60
A21: =A20+1 -> 10 | B21: =Д.П.!H17 -> яйцо столовое | G21: =Д.П.!M17 -> 6 | H21: 2 | I21: 2 | K21: 2 | M21: =SUM(F21:L21) -> 12 | N21: =Д.П.!N17 -> 7 | O21: =M21*N21 -> 84
A22: =A21+1 -> 11 | B22: =Д.П.!H18 -> мука | G22: =Д.П.!M18 -> 2.25 | H22: 0.06 | K22: 0.06 | M22: =SUM(F22:L22) -> 2.37 | N22: =Д.П.!N18 -> 39 | O22: =M22*N22 -> 92.43
A23: =A22+1 -> 12 | B23: =Д.П.!H19 -> молоко сухое | G23: =Д.П.!M19 -> 0.5 | H23: 0.06 | M23: =SUM(F23:L23) -> 0.56 | N23: =Д.П.!N19 -> 588.3 | O23: =M23*N23 -> 329.448
A24: =A23+1 -> 13 | B24: молоко сухое | F24: 4.7 | M24: =SUM(F24:L24) -> 4.7 | N24: 507.42 | O24: =M24*N24 -> 2384.874
A25: =A24+1 -> 14 | B25: =Д.П.!H20 -> макароны. | G25: =Д.П.!M20 -> 2.45 | H25: 0.6 | I25: 0.5 | K25: 0.612 | M25: =SUM(F25:L25) -> 4.162 | N25: =Д.П.!N20 -> 50.98 | O25: =M25*N25 -> 212.17876
A26: =A25+1 -> 15 | B26: =Д.П.!H21 -> капуста свежая | G26: =Д.П.!M21 -> 2.24 | H26: 1 | I26: 0.5 | K26: 1.5 | M26: =SUM(F26:L26) -> 5.24 | N26: =Д.П.!N21 -> 45 | O26: =M26*N26 -> 235.8
A27: =A26+1 -> 16 | B27: сок | F27: 215 | G27: =Д.П.!M22 -> 0 | H27: 30 | M27: =SUM(F27:L27) -> 245 | N27: 25.88 | O27: =M27*N27 -> 6340.6
A28: =A27+1 -> 17 | B28: =Д.П.!H23 -> сахарный песок | F28: 5.9 | G28: =Д.П.!M23 -> 6.19 | H28: 0.7 | I28: 0.4 | K28: 0.29 | M28: =SUM(F28:L28) -> 13.48 | N28: =Д.П.!N23 -> 75 | O28: =M28*N28 -> 1011
A29: =A28+1 -> 18 | B29: крупа рис | F29: 5 | G29: =Д.П.!M24 -> 0 | M29: =SUM(F29:L29) -> 5 | N29: 98 | O29: =M29*N29 -> 490
A30: =A29+1 -> 19 | B30: =Д.П.!H25 -> томат паста | G30: =Д.П.!M25 -> 0.3 | M30: =SUM(F30:L30) -> 0.3 | N30: =Д.П.!N25 -> 260 | O30: =M30*N30 -> 78
A31: =A30+1 -> 20 | B31: масло сливочное | F31: 4.725 | G31: =Д.П.!M26 -> 0 | H31: 0.11 | I31: 0.06 | K31: 0.156 | M31: =SUM(F31:L31) -> 5.051 | N31: 975.5 | O31: =M31*N31 -> 4927.2505
A32: =A31+1 -> 21 | B32: кофейный напиток | F32: 1.2 | G32: =Д.П.!M27 -> 0 | M32: =SUM(F32:L32) -> 1.2 | N32: 655.2 | O32: =M32*N32 -> 786.24
A33: =A32+1 -> 22 | B33: =Д.П.!H28 -> кура. | G33: =Д.П.!M28 -> 4.1 | M33: =SUM(F33:L33) -> 4.1 | N33: =Д.П.!N28 -> 233 | O33: =M33*N33 -> 955.3
A34: =A33+1 -> 23 | B34: =Д.П.!H29 -> майонез | G34: =Д.П.!M29 -> 1 | M34: =SUM(F34:L34) -> 1 | N34: =Д.П.!N29 -> 264.57 | O34: =M34*N34 -> 264.57
A35: =A34+1 -> 24 | B35: =Д.П.!H30 -> дрожжи | G35: =Д.П.!M30 -> 0.05 | M35: =SUM(F35:L35) -> 0.05 | N35: =Д.П.!N30 -> 158 | O35: =M35*N35 -> 7.9
A36: =A35+1 -> 25 | B36: =Д.П.!H31 -> молоко сгущеное | G36: =Д.П.!M31 -> 1.2 | M36: =SUM(F36:L36) -> 1.2 | N36: =Д.П.!N31 -> 348.65 | O36: =M36*N36 -> 418.38
A37: =A36+1 -> 26 | B37: =Д.П.!H32 -> хлеб | G37: =Д.П.!M32 -> 4.2 | M37: =SUM(F37:L37) -> 4.2 | N37: =Д.П.!N32 -> 62.86 | O37: =M37*N37 -> 264.012
A38: =A37+1 -> 27 | B38: =Д.П.!H33 -> хлеб | G38: =Д.П.!M33 -> 9 | M38: =SUM(F38:L38) -> 9 | N38: =Д.П.!N33 -> 78.33 | O38: =M38*N38 -> 704.97
A39: =A38+1 -> 28 | B39: молоко | F39: 25 | G39: =Д.П.!M34 -> 0 | M39: =SUM(F39:L39) -> 25 | N39: 86.66 | O39: =M39*N39 -> 2166.5
A40: =A39+1 -> 29 | B40: Сыр | F40: 6 | G40: =Д.П.!M35 -> 0 | M40: =SUM(F40:L40) -> 6 | N40: 744.4 | O40: =M40*N40 -> 4466.4
A41: =A40+1 -> 30 | B41: батон | F41: 10 | G41: =Д.П.!M36 -> 0 | M41: =SUM(F41:L41) -> 10 | N41: 112.5 | O41: =M41*N41 -> 1125
A42: =A41+1 -> 31 | B42: =Д.П.!H37 -> чай | G42: =Д.П.!M37 -> 100 | M42: =SUM(F42:L42) -> 100 | N42: =Д.П.!N37 -> 3.18 | O42: =M42*N42 -> 318
A43: =A42+1 -> 32 | B43: Десерт | F43: 5 | G43: =Д.П.!M38 -> 0 | M43: =SUM(F43:L43) -> 5 | N43: 345.32 | O43: =M43*N43 -> 1726.6
A44: =A43+1 -> 33 | B44: =Д.П.!H39 -> кислота лимонная | G44: =Д.П.!M39 -> 13 | M44: =SUM(F44:L44) -> 13 | N44: =Д.П.!N39 -> 16.1 | O44: =M44*N44 -> 209.3
A45: =A44+1 -> 34 | B45: =Д.П.!H40 -> уксус | G45: =Д.П.!M40 -> 12 | M45: =SUM(F45:L45) -> 12 | N45: 34.6 | O45: =M45*N45 -> 415.2
A46: =A45+1 -> 35 | B46: =Д.П.!H41 -> Булочка с кунжутом | G46: =Д.П.!M41 -> 50 | M46: =SUM(F46:L46) -> 50 | N46: =Д.П.!N41 -> 15 | O46: =M46*N46 -> 750 | R46: 0
A47: =A46+1 -> 36 | B47: =Д.П.!H42 -> Рогалик с варён. Сгущ. | G47: =Д.П.!M42 -> 40 | I47: 10 | M47: =SUM(F47:L47) -> 50 | N47: =Д.П.!N42 -> 20 | O47: =M47*N47 -> 1000 | R47: =ГПД!O34 -> 1171.4055
A48: 37 | B48: компотная смесь | G48: =Д.П.!M45 -> 0 | H48: 0.875 | I48: 0.2 | K48: 0.24 | M48: =SUM(F48:L48) -> 1.315 | N48: 230 | O48: =M48*N48 -> 302.45 | R48: =СВО!O32 -> 1230.3288
A49: 38 | B49: чай | G49: =Д.П.!M46 -> 0 | I49: 0.01 | M49: =SUM(F49:L49) -> 0.01 | N49: 1300 | O49: =M49*N49 -> 13 | R49: =ОВЗ!O33 -> 2159.0776
A50: 39 | B50: выпечка | G50: =Д.П.!M47 -> 0 | M50: =SUM(F50:L50) -> 0 | N50: =Д.П.!N47 -> 0 | O50: =M50*N50 -> 0 | R50: =Б.П.!H33 -> 18449.551
A51: 40 | M51: =F51+G51+H51+I51+J51+K51+L51 -> 0 | O51: =SUM(O12:O50) -> 39427.976 | R51: =Д.П.!O44 -> 10077.081
R52: =SUM(R45:R51) -> 33087.445 | S52: =R52-O51 -> -6340.5309
G54: Шеф-повар: Антонова Н А

Sheet ОВЗ
I1: =Б.П.!I1 -> Утверждаю: 01 декабря 2025г
A3: калькуляционная карточка | I3: Директор МБОУ"КСШ"__________________ Антропова Л.Л
A5: Сборник рецептур блюд ШОУ 2018г
A6: ОВЗ | I6: Заборный лист:
A8: наименование: | D8: на 1 пор.гр | E8: кол-во | F8: цена | G8: сумма | I8: наименование: | M8: кол-во | N8: цена | O8: сумма
A9: Суп картофельный с бобовыми | D9: 250/20 | E9: 30 | F9: ТК №45 | H9: 50 пор | I9: картофель | M9: =E10 -> 3 | N9: =F10 -> 30 | O9: =M9*N9 -> 90
A10: картофель | D10: 0.1 | E10: 3 | F10: 30 | G10: =E10*F10 -> 90 | I10: =A11 -> фасоль | M10: =E11 -> 1 | N10: =F11 -> 150 | O10: =M10*N10 -> 150
A11: =Д.П.!A11 -> фасоль | D11: 0.06 | E11: 1 | F11: =Д.П.!F11 -> 150 | G11: =E11*F11 -> 150 | I11: =A12 -> лук репчатый | M11: =E12+E21+E38 -> 1.16 | N11: =F12 -> 55 | O11: =M11*N11 -> 63.8
A12: лук репчатый | D12: 0.012 | E12: =D12*E9 -> 0.36 | F12: =Д.П.!F12 -> 55 | G12: =E12*F12 -> 19.8 | I12: =A13 -> морковь | M12: =E13+E39 -> 0.86 | N12: =F13 -> 65 | O12: =M12*N12 -> 55.9
A13: морковь | D13: 0.012 | E13: =D13*E9 -> 0.36 | F13: =Д.П.!F13 -> 65 | G13: =E13*F13 -> 23.4 | I13: =A36 -> капуста свежая | M13: =E36 -> 1 | N13: =F36 -> 45 | O13: =M13*N13 -> 45
A14: масло растительное | D14: 0.005 | E14: =D14*E9 -> 0.15 | F14: 162.18 | G14: =E14*F14 -> 24.327 | I14: =A14 -> масло растительное | M14: =E14+E22+E31+E41 -> 0.87 | N14: =F14 -> 162.18 | O14: =M14*N14 -> 141.0966
A15: мясо | D15: 0.027 | E15: 0.3 | F15: =Д.П.!F15 -> 500 | G15: =E15*F15 -> 150 | I15: =A15 -> мясо | M15: =E15+E19 -> 2.3 | N15: =F19 -> 500 | O15: =M15*N15 -> 1150
A16: зелень укроп | D16: 0.001 | E16: 0 | F16: =Д.П.!F16 -> 200 | G16: =E16*F16 -> 0 | I16: =A16 -> зелень укроп | M16: =E16 -> 0 | N16: =F16 -> 200 | O16: =M16*N16 -> 0
A17: соль | D17: 0.003 | E17: 1 | F17: 20 | G17: =E17*F17 -> 20 | I17: =A17 -> соль | M17: =E17 -> 1 | N17: =F17 -> 20 | O17: =M17*N17 -> 20
A18: Котлета из говядины | D18: 80/8 | F18: ТК №104(1) | I18: =A23 -> яйцо столовое | M18: =E23 -> 2 | N18: =F23 -> 7 | O18: =M18*N18 -> 14
A19: мясо говядина() 80/60 | D19: 0.08 | E19: 2 | F19: =F15 -> 500 | G19: =E19*F19 -> 1000 | I19: =A24 -> масло сливочное | M19: =E24+E27 -> 0.11 | N19: =F24 -> 975.5 | O19: =M19*N19 -> 107.305
A20: хлеб пшеничный | D20: 0.01 | E20: =D20*E9 -> 0.3 | F20: 0 | G20: =E20*F20 -> 0 | I20: =A30 -> макароны. | M20: =E30 -> 0.6 | N20: =F30 -> 50.98 | O20: =M20*N20 -> 30.588
A21: лук репчатый | D21: 0.01 | E21: 0.3 | F21: =F12 -> 55 | G21: =E21*F21 -> 16.5 | I21: =A33 -> компотная смесь | M21: =E33 -> 0.875 | N21: =F33 -> 230 | O21: =M21*N21 -> 201.25
A22: масло растительное | D22: 0.01 | E22: 0.3 | F22: =F14 -> 162.18 | G22: =E22*F22 -> 48.654 | I22: =A44 -> мини рулетики | M22: =E44 -> 0 | N22: =F44 -> 591.8 | O22: =M22*N22 -> 0
A23: яйцо столовое | D23: 0.008 | E23: 2 | F23: 7 | G23: =E23*F23 -> 14 | I23: =A34 -> сахар | M23: =E34+E40 -> 0.7 | N23: =F34 -> 75 | O23: =M23*N23 -> 52.5 | P23: =G49-O33 -> 0
A24: масло сливочное | D24: 0.004 | E24: 0.05 | F24: 975.5 | G24: =E24*F24 -> 48.775 | I24: =A26 -> мука | M24: =E26 -> 0.06 | N24: =F26 -> 39 | O24: =M24*N24 -> 2.34
A25: соус; | D25: 50 | F25: ТК №179 | I25: =A28 -> молоко сухое | M25: =E28 -> 0.06 | N25: =F28 -> 588.3 | O25: =M25*N25 -> 35.298
A26: мука | D26: 0.005 | E26: 0.06 | F26: 39 | G26: =E26*F26 -> 2.34 | I26: =A37 -> огурцы свежие | M26: =E37 -> 0 | N26: =F37 -> 160 | O26: =M26*N26 -> 0
A27: масло сливочное | D27: 0.005 | E27: 0.06 | F27: 975.5 | G27: =E27*F27 -> 58.53 | I27: =A45 -> сок | M27: =E45 -> 30 | N27: =F45 -> 0 | O27: =M27*N27 -> 0 | P27: =G49-O33 -> 0
A28: молоко сухое | D28: 0.005 | E28: 0.06 | F28: ='[1]ноябрь 2025г'!$AP$93 -> 588.3 | G28: =E28*F28 -> 35.298 | I28: =A46 -> 0 | M28: =E46 -> 0 | N28: =F46 -> 0 | O28: =M28*N28 -> 0
A29: макароны отварные | D29: 150 | F29: ТК №227
A30: макароны. | D30: 0.051 | E30: 0.6 | F30: =Д.П.!F33 -> 50.98 | G30: =E30*F30 -> 30.588
A31: масло растительное | D31: 0.01 | E31: 0.12 | F31: =F22 -> 162.18 | G31: =E31*F31 -> 19.4616
A32: Компот | D32: 200 | F32: ТК №280
A33: компотная смесь | D33: 0.02 | E33: 0.875 | F33: 230 | G33: =E33*F33 -> 201.25 | O33: =SUM(O9:O32) -> 2159.0776
A34: сахар | D34: 0.02 | E34: 0.6 | F34: 75 | G34: =E34*F34 -> 45
A35: Салат Витаминный | D35: 50 | F35: ТК №02
A36: капуста свежая | D36: 0.1 | E36: 1 | F36: =Д.П.!F37 -> 45 | G36: =E36*F36 -> 45
A37: огурцы свежие | D37: 0.03 | E37: 0 | F37: 160 | G37: =E37*F37 -> 0 | I37: шеф - повар; Антонова Н.А.
A38: лук репчатый | D38: 0.017 | E38: 0.5 | F38: =F21 -> 55 | G38: =E38*F38 -> 27.5
A39: морковь | D39: 0.017 | E39: 0.5 | F39: =F13 -> 65 | G39: =E39*F39 -> 32.5
A40: сахарный песок | D40: 0.003 | E40: 0.1 | F40: =Д.П.!F41 -> 75 | G40: =E40*F40 -> 7.5
A41: масло растительное | D41: 0.01 | E41: 0.3 | F41: =F22 -> 162.18 | G41: =E41*F41 -> 48.654
G43: =E43*F43 -> 0
A44: мини рулетики | D44: =E44/E9 -> 0 | E44: 0 | F44: ='[1]ноябрь 2025г'!$AP$187 -> 591.8 | G44: =E44*F44 -> 0
A45: сок | D45: 0.2 | E45: 30 | F45: =Б.П.!F31 -> 0 | G45: =E45*F45 -> 0
G49: =SUM(G9:G48) -> 2159.0776
G50: =G49/E9 -> 71.969253

Sheet ГПД
I1: =Б.П.!I1 -> Утверждаю: 01 декабря 2025г
A3: калькуляционная карточка | I3: Директор МБОУ"КСШ"__________________ Антропова Л.Л
A5: Сборник рецептур блюд ШОУ 2018г
A6: "ВНЕУРОЧКА" | I6: Заборный лист:
A8: наименование: | D8: на 1 пор.гр | E8: кол-во | F8: цена | G8: сумма | I8: наименование: | M8: кол-во | N8: цена | O8: сумма
A9: Суп картофельный с бобовыми | D9: 250/20 | E9: 10 | F9: ТК №45 | H9: 50 пор | I9: картофель | M9: =E10 -> 1 | N9: =F10 -> 30 | O9: =M9*N9 -> 30
A10: картофель | D10: 0.1 | E10: 1 | F10: =ОВЗ!F10 -> 30 | G10: =E10*F10 -> 30 | I10: =A11 -> фасоль | M10: =E11 -> 0.36 | N10: =F11 -> 150 | O10: =M10*N10 -> 54
A11: =Д.П.!A11:D11 -> фасоль | D11: 0.06 | E11: 0.36 | F11: =ОВЗ!F11 -> 150 | G11: =E11*F11 -> 54 | I11: =A12 -> лук репчатый | M11: =E12+E21+E38 -> 0.63 | N11: =F12 -> 55 | O11: =M11*N11 -> 34.65
A12: лук репчатый | D12: 0.012 | E12: 0.18 | F12: =ОВЗ!F12 -> 55 | G12: =E12*F12 -> 9.9 | I12: =A13 -> морковь | M12: =E13+E39 -> 0.48 | N12: =F13 -> 65 | O12: =M12*N12 -> 31.2
A13: морковь | D13: 0.012 | E13: 0.18 | F13: =ОВЗ!F13 -> 65 | G13: =E13*F13 -> 11.7 | I13: =A26 -> мука | M13: =E26+E44 -> 0 | N13: =F26 -> 39 | O13: =M13*N13 -> 0
A14: масло растительное | D14: 0.005 | E14: 0.075 | F14: =ОВЗ!F14 -> 162.18 | G14: =E14*F14 -> 12.1635 | I14: =A14 -> масло растительное | M14: =E14+E22+E31+E41 -> 0.475 | N14: =F14 -> 162.18 | O14: =M14*N14 -> 77.0355
A15: мясо | D15: 0.027 | E15: 0.27 | F15: =ОВЗ!F15 -> 500 | G15: =E15*F15 -> 135 | I15: =A15 -> мясо | M15: =E15+E19 -> 1.07 | N15: =F15 -> 500 | O15: =M15*N15 -> 535
A16: зелень укроп | D16: 0.001 | E16: 0 | F16: 390 | G16: =E16*F16 -> 0 | I16: =A16 -> зелень укроп | M16: =E16 -> 0 | N16: =F16 -> 390 | O16: =M16*N16 -> 0
A17: соль | D17: 0.003 | E17: 0 | F17: =ОВЗ!F17 -> 20 | G17: =E17*F17 -> 0 | I17: =A17 -> соль | M17: =E17 -> 0 | N17: =F17 -> 20 | O17: =M17*N17 -> 0
A18: Котлета из говядины | D18: 80/8 | F18: ТК №104(1) | I18: =A23 -> яйцо столовое | M18: =E23 -> 2 | N18: =F23 -> 7 | O18: =M18*N18 -> 14
A19: мясо говядина(ф 3,96) 80/60 | D19: 0.08 | E19: 0.8 | F19: =ОВЗ!F19 -> 500 | G19: =E19*F19 -> 400 | I19: =A24 -> масло сливочное | M19: =E24+E27 -> 0.06 | N19: =F24 -> 975.5 | O19: =M19*N19 -> 58.53
A20: хлеб пшеничный | D20: 0.01 | E20: 0 | F20: =ОВЗ!F20 -> 0 | G20: =E20*F20 -> 0 | I20: =A34 -> сахар | M20: =E34+E40+E46+E53 -> 0.4 | N20: =F34 -> 75 | O20: =M20*N20 -> 30
A21: лук репчатый | D21: 0.01 | E21: 0.15 | F21: =ОВЗ!F21 -> 55 | G21: =E21*F21 -> 8.25 | I21: =A29 -> макароны отварные | M21: =E30 -> 0.5 | N21: =F30 -> 50.98 | O21: =M21*N21 -> 25.49
A22: масло растительное | D22: 0.01 | E22: 0.15 | F22: =ОВЗ!F22 -> 162.18 | G22: =E22*F22 -> 24.327 | I22: =A45 -> дрожжи | M22: =E45 -> 0 | N22: =F45 -> 158 | O22: =M22*N22 -> 0
A23: яйцо столовое | D23: 0.008 | E23: 2 | F23: =ОВЗ!F23 -> 7 | G23: =E23*F23 -> 14 | I23: =A47 -> маргарин | M23: =E47 -> 0 | N23: =F47 -> 195 | O23: =M23*N23 -> 0
A24: масло сливочное | D24: 0.004 | E24: 0.06 | F24: =ОВЗ!F24 -> 975.5 | G24: =E24*F24 -> 58.53 | I24: =A48 -> помадка | M24: =E48 -> 0 | N24: =F48 -> 282 | O24: =M24*N24 -> 0
A25: соус; | D25: 50 | F25: ТК №179 | I25: =A51 -> Чай . | M25: =E51 -> 0.01 | N25: =F51 -> 1300 | O25: =M25*N25 -> 13
A26: мука | D26: 0.005 | E26: 0 | F26: 39 | G26: =E26*F26 -> 0 | I26: =A52 -> лимоны свежие | M26: =E52 -> 0 | N26: =F52 -> 190 | O26: =M26*N26 -> 0
A27: масло сливочное | D27: 0.005 | E27: 0 | F27: =ОВЗ!F27 -> 975.5 | G27: =E27*F27 -> 0 | I27: =A33 -> компотная смесь | M27: =E33 -> 0.2 | N27: =F33 -> 230 | O27: =M27*N27 -> 46
A28: молоко сухое | D28: 0.005 | E28: 0 | F28: =ОВЗ!F28 -> 588.3 | G28: =E28*F28 -> 0 | I28: =A28 -> молоко сухое | M28: =E28 -> 0 | N28: =F28 -> 588.3 | O28: =M28*N28 -> 0
A29: макароны отварные | D29: 150 | F29: ТК №227 | I29: =A36 -> капуста свежая | M29: =E36 -> 0.5 | N29: =F36 -> 45 | O29: =M29*N29 -> 22.5 | P29: =G54-O34 -> 0
A30: макароны. | D30: 0.051 | E30: 0.5 | F30: =ОВЗ!F30 -> 50.98 | G30: =E30*F30 -> 25.49 | I30: =A37 -> огурцы свежие | M30: =E37 -> 0 | N30: =F37 -> 160 | O30: =M30*N30 -> 0
A31: масло растительное | D31: 0.01 | E31: 0.1 | F31: =F14 -> 162.18 | G31: =E31*F31 -> 16.218 | I31: =A49 -> Рогалик с вар сгущ. | M31: =E49 -> 10 | N31: =F49 -> 20 | O31: =M31*N31 -> 200
A32: компот | D32: 200 | F32: ТК №280
A33: компотная смесь | D33: 0.02 | E33: 0.2 | F33: 230 | G33: =E33*F33 -> 46
A34: сахар | D34: 0.02 | E34: 0.2 | F34: =Д.П.!F48 -> 75 | G34: =E34*F34 -> 15 | N34: итого: | O34: =SUM(O9:O33) -> 1171.4055
A35: Салат Витаминный | D35: 50 | F35: ТК №02 | N35: 1.4 | O35: =O34*N35 -> 1639.9677 | P35: =O35/E9 -> 163.99677
A36: капуста свежая | D36: 0.1 | E36: 0.5 | F36: =ОВЗ!F36 -> 45 | G36: =E36*F36 -> 22.5 | N36: наценка: | O36: =O35-O34 -> 468.5622
A37: огурцы свежие | D37: 0.03 | E37: 0 | F37: =ОВЗ!F37 -> 160 | G37: =E37*F37 -> 0
A38: лук репчатый | D38: 0.017 | E38: 0.3 | F38: =ОВЗ!F38 -> 55 | G38: =E38*F38 -> 16.5 | I38: шеф - повар; Антонова Н.А.
A39: морковь | D39: 0.017 | E39: 0.3 | F39: =ОВЗ!F39 -> 65 | G39: =E39*F39 -> 19.5
A40: сахарный песок | D40: 0.003 | E40: 0.05 | F40: =ОВЗ!F40 -> 75 | G40: =E40*F40 -> 3.75
A41: масло растительное | D41: 0.01 | E41: 0.15 | F41: =ОВЗ!F41 -> 162.18 | G41: =E41*F41 -> 24.327
A43: Булочка с помадкой | D43: 75
A44: мука | D44: 0.05 | E44: 0 | F44: 39 | G44: =E44*F44 -> 0
A45: дрожжи | D45: 0.001 | E45: 0 | F45: 158 | G45: =E45*F45 -> 0
A46: сахар | D46: 0.003 | E46: 0 | F46: 68 | G46: =E46*F46 -> 0
A47: маргарин | D47: 0.005 | E47: 0 | F47: 195 | G47: =E47*F47 -> 0
A48: помадка | D48: 0.025 | E48: 0 | F48: 282 | G48: =E48*F48 -> 0
A49: Рогалик с вар сгущ. | D49: 0.075 | E49: 10 | F49: 20 | G49: =E49*F49 -> 200
A50: Чай с лимоном и сахаром | D50: 200 | F50: ТК № 302
A51: Чай . | D51: 0.001 | E51: 0.01 | F51: 1300 | G51: =E51*F51 -> 13
A52: лимоны свежие | D52: 0.01 | E52: 0 | F52: 190 | G52: =E52*F52 -> 0
A53: сахар | D53: 0.015 | E53: 0.15 | F53: =F40 -> 75 | G53: =E53*F53 -> 11.25
F54: итого: | G54: =SUM(G10:G53) -> 1171.4055

Sheet выпечка
I1: =Б.П.!I1 -> Утверждаю: 01 декабря 2025г
A3: калькуляционная карточка | I3: .Директор МБОУ"КСШ"__________Антропова Л.Л.
A5: Сборник рецептур блюд и ТК 2018г
A6: выпечка | I6: Заборный лист:
A8: наименование: | D8: на 1 пор.гр | E8: кол-во | F8: цена | G8: сумма | I8: наименование: | M8: кол-во | N8: цена | O8: сумма
A9: Пирожки с повидлом | D9: 90 | E9: 100 | I9: мука | M9: =E10+E17+E24 -> 14.4 | N9: =F10 -> 39 | O9: =M9*N9 -> 561.6
A10: мука | D10: =E10/$E$9 -> 0.048 | E10: 4.8 | F10: 39 | G10: =E10*F10 -> 187.2 | I10: сахар | M10: =E11+E18+E25 -> 0.975 | N10: =F11 -> 68 | O10: =M10*N10 -> 66.3
A11: сахар | D11: =E11/$E$9 -> 0.003 | E11: 0.3 | F11: 68 | G11: =E11*F11 -> 20.4 | I11: =A12 -> маргарин | M11: =E12+E19+E26 -> 1.05 | N11: =F12 -> 195 | O11: =M11*N11 -> 204.75
A12: маргарин | D12: =E12/$E$9 -> 0.003 | E12: 0.3 | F12: 195 | G12: =E12*F12 -> 58.5 | I12: =A29 -> соль | M12: =E29 -> 0 | N12: =F29 -> 18 | O12: =M12*N12 -> 0
A13: дрожжи | D13: =E13/$E$9 -> 0.001 | E13: 0.1 | F13: 158 | G13: =E13*F13 -> 15.8 | I13: =A20 -> дрожжи | M13: =E13+E20+E27 -> 0.3 | N13: =F20 -> 158 | O13: =M13*N13 -> 47.4
A14: повидло | D14: 0.02 | E14: 2.5 | F14: 126 | G14: =E14*F14 -> 315 | I14: =A21 -> сосиски Андреевские | M14: =E21 -> 8 | N14: =F21 -> 300 | O14: =M14*N14 -> 2400
F15: =G15/E9 -> 5.969 | G15: =SUM(G10:G14) -> 596.9 | I15: =A31 -> масло растительное | M15: =E31 -> 0 | N15: =F31 -> 162.18 | O15: =M15*N15 -> 0
A16: Сосиски в тесте | D16: 100 | E16: 50 | I16: =A28 -> молоко сгущ. Варёное | M16: =E28 -> 2.5 | N16: =F28 -> 235 | O16: =M16*N16 -> 587.5
A17: мука | D17: =E17/E16 -> 0.096 | E17: 4.8 | F17: =F10 -> 39 | G17: =E17*F17 -> 187.2 | I17: =A14 -> повидло | M17: =E14 -> 2.5 | N17: =F14 -> 126 | O17: =M17*N17 -> 315 | R17: 0
A18: сахар | D18: =E18/E17 -> 0.0625 | E18: 0.3 | F18: 68 | G18: =E18*F18 -> 20.4 | O18: =SUM(O9:O17) -> 4182.55 | P18: =G32-O18 -> 0 | R18: 2
A19: маргарин | D19: =E19/E18 -> 1 | E19: 0.3 | F19: 195 | G19: =E19*F19 -> 58.5 | N19: 1 | O19: =O18*R18 -> 8365.1
A20: дрожжи | D20: =E20/E19 -> 0.33333333 | E20: 0.1 | F20: 158 | G20: =E20*F20 -> 15.8
A21: сосиски Андреевские | D21: =E21/E20 -> 80 | E21: 8 | F21: 300 | G21: =E21*F21 -> 2400
F22: =G22/E16 -> 53.638 | G22: =SUM(G17:G21) -> 2681.9 | I22: шеф повар: Антонова Н.А.
A23: Рогалик с варёной сгущёнкой | D23: 100 | E23: 75
A24: мука | D24: =E24/E23 -> 0.064 | E24: 4.8 | F24: =F17 -> 39 | G24: =E24*F24 -> 187.2
A25: сахар | D25: =E25/E24 -> 0.078125 | E25: 0.375 | F25: 68 | G25: =E25*F25 -> 25.5
A26: маргарин | D26: =E26/E25 -> 1.2 | E26: 0.45 | F26: =F19 -> 195 | G26: =E26*F26 -> 87.75
A27: дрожжи | D27: =E27/E26 -> 0.22222222 | E27: 0.1 | F27: =F20 -> 158 | G27: =E27*F27 -> 15.8
A28: молоко сгущ. Варёное | D28: =E28/E27 -> 25 | E28: 2.5 | F28: 235 | G28: =E28*F28 -> 587.5
A29: соль | D29: 0.001 | E29: 0 | F29: 18 | G29: =F29*E29 -> 0
F30: =G30/E23 -> 12.05 | G30: =SUM(G24:G29) -> 903.75
A31: масло растительное | D31: 0.001 | E31: 0 | F31: 162.18 | G31: =E31*F31 -> 0
G32: =G15+G22+G30+G31 -> 4182.55

Sheet СВО
I1: =Б.П.!I1 -> Утверждаю: 01 декабря 2025г
A3: калькуляционная карточка | I3: Директор МБОУ"КСШ"__________________ Антропова Л.Л
A5: Сборник рецептур блюд ШОУ 2018г
A6: СВО | I6: Заборный лист:
A7: человек
A8: наименование: | D8: на 1 пор.гр | E8: кол-во | F8: цена | G8: сумма | I8: наименование: | M8: кол-во | N8: цена | O8: сумма
A9: Суп картофельный с бобовыми | D9: 250/20 | E9: 12 | F9: ТК №45 | H9: 50 пор | I9: картофель | M9: =E10 -> 0.96 | N9: =F10 -> 30 | O9: =M9*N9 -> 28.8
A10: картофель | D10: 0.08 | E10: =D10*E9 -> 0.96 | F10: =Д.П.!F10 -> 30 | G10: =E10*F10 -> 28.8 | I10: =A11 -> фасоль | M10: =E11 -> 0.72 | N10: =F11 -> 150 | O10: =M10*N10 -> 108
A11: =Д.П.!A11 -> фасоль | D11: 0.06 | E11: =D11*E9 -> 0.72 | F11: =Д.П.!F11 -> 150 | G11: =E11*F11 -> 108 | I11: =A12 -> лук репчатый | M11: =E12+E21+E39 -> 0.864 | N11: =F12 -> 55 | O11: =M11*N11 -> 47.52
A12: лук репчатый | D12: 0.012 | E12: =D12*E9 -> 0.144 | F12: =Д.П.!F12 -> 55 | G12: =E12*F12 -> 7.92 | I12: =A13 -> морковь | M12: =E13+E40 -> 0.444 | N12: =F13 -> 65 | O12: =M12*N12 -> 28.86
A13: морковь | D13: 0.012 | E13: =D13*E9 -> 0.144 | F13: =Д.П.!F13 -> 65 | G13: =E13*F13 -> 9.36 | I13: =A26 -> помидоры свежие | M13: =E26 -> 0 | N13: =F26 -> 160 | O13: =M13*N13 -> 0
A14: масло растительное | D14: 0.005 | E14: =D14*E9 -> 0.06 | F14: =ГПД!F14 -> 162.18 | G14: =E14*F14 -> 9.7308 | I14: =A14 -> масло растительное | M14: =E14+E22+E32+E42 -> 0.45 | N14: =F14 -> 162.18 | O14: =M14*N14 -> 72.981
A15: мясо | D15: 0.027 | E15: 0.2 | F15: =Д.П.!F15 -> 500 | G15: =E15*F15 -> 100 | I15: =A15 -> мясо | M15: =E15+E19 -> 1.2 | N15: =F15 -> 500 | O15: =M15*N15 -> 600
A16: зелень укроп | D16: 0.001 | E16: 0 | F16: =Д.П.!F16 -> 200 | G16: =E16*F16 -> 0 | I16: =A16 -> зелень укроп | M16: =E16 -> 0 | N16: =F16 -> 200 | O16: =M16*N16 -> 0
A17: соль | D17: 0.003 | E17: 0 | F17: =Д.П.!F17 -> 20 | G17: =E17*F17 -> 0 | I17: =A17 -> соль | M17: =E17 -> 0 | N17: =F17 -> 20 | O17: =M17*N17 -> 0
A18: Котлеты из говядины | D18: 80/8 | F18: ТК №104(1) | I18: =A23 -> яйцо столовое | M18: =E23 -> 2 | N18: =F23 -> 7 | O18: =M18*N18 -> 14
A19: мясо говядина(ф 0,48) 80/60 | D19: 0.06 | E19: 1 | F19: 500 | G19: =E19*F19 -> 500 | I19: =A24 -> масло сливочное | M19: =E24+E28 -> 0.156 | N19: =F24 -> 975.5 | O19: =M19*N19 -> 152.178
A20: хлеб пшеничный | D20: 0.01 | E20: 0 | F20: 0 | G20: =E20*F20 -> 0 | I20: =A31 -> макароны. | M20: =E31 -> 0.612 | N20: =F31 -> 50.98 | O20: =M20*N20 -> 31.19976
A21: лук репчатый | D21: 0.035 | E21: =D21*E9 -> 0.42 | F21: =F12 -> 55 | G21: =E21*F21 -> 23.1 | I21: =A34 -> компотная смесь | M21: =E34 -> 0.24 | N21: =F34 -> 230 | O21: =M21*N21 -> 55.2
A22: масло растительное | D22: 0.01 | E22: =D22*E9 -> 0.12 | F22: =F14 -> 162.18 | G22: =E22*F22 -> 19.4616 | I22: =A44 -> 0 | M22: =E44 -> 0 | N22: =F44 -> 0 | O22: =M22*N22 -> 0
A23: яйцо столовое | D23: 0.008 | E23: 2 | F23: 7 | G23: =E23*F23 -> 14 | I23: =A35 -> сахар | M23: =E29+E35+E41 -> 0.29 | N23: =F35 -> 75 | O23: =M23*N23 -> 21.75
A24: масло сливочное | D24: 0.008 | E24: =D24*E9 -> 0.096 | F24: 975.5 | G24: =E24*F24 -> 93.648 | I24: =A27 -> мука | M24: =E27 -> 0.06 | N24: =F27 -> 39 | O24: =M24*N24 -> 2.34
D25: 50 | F25: ТК №179 | I25: =A43 -> 0 | M25: =E43 -> 0 | N25: =F43 -> 0 | O25: =M25*N25 -> 0
A26: помидоры свежие | D26: 0.1 | E26: 0 | F26: 160 | G26: =E26*F26 -> 0 | I26: =A45 -> 0 | M26: =E45 -> 0 | N26: =F45 -> 0 | O26: =M26*N26 -> 0
A27: мука | D27: 0.005 | E27: =D27*E9 -> 0.06 | F27: 39 | G27: =E27*F27 -> 2.34 | I27: =A37 -> капуста свежая | M27: =E37 -> 1.5 | N27: =F37 -> 45 | O27: =M27*N27 -> 67.5
A28: масло сливочное | D28: 0.005 | E28: =D28*E9 -> 0.06 | F28: =F24 -> 975.5 | G28: =E28*F28 -> 58.53 | I28: =A38 -> огурцы свежие | M28: =E38 -> 0 | N28: =F38 -> 160 | O28: =M28*N28 -> 0
A29: сахар | D29: 0.02 | E29: 0 | F29: =ГПД!Q25 -> 0 | G29: =E29*F29 -> 0 | O29: =M29*N29 -> 0
A30: макароны отварные | D30: 150 | F30: ТК №227 | O30: =M30*N30 -> 0
A31: макароны. | D31: 0.051 | E31: =D31*E9 -> 0.612 | F31: =ГПД!F30 -> 50.98 | G31: =E31*F31 -> 31.19976
A32: масло растительное | D32: 0.01 | E32: =D32*E9 -> 0.12 | F32: =F22 -> 162.18 | G32: =E32*F32 -> 19.4616 | O32: =SUM(O9:O31) -> 1230.3288 | Q32: =G46-O32 -> 0
A33: =ГПД!A32 -> компот | D33: 200 | F33: ТК №280
A34: =ГПД!A33 -> компотная смесь | D34: 0.02 | E34: =D34*E9 -> 0.24 | F34: 230 | G34: =E34*F34 -> 55.2
A35: сахар | D35: 0.02 | E35: =D35*E9 -> 0.24 | F35: =ГПД!F34 -> 75 | G35: =E35*F35 -> 18
A36: Салат Витаминный | D36: 50 | F36: ТК №02 | I36: шеф - повар; Антонова Н.А.
A37: капуста свежая | D37: 0.1 | E37: 1.5 | F37: =ГПД!F36 -> 45 | G37: =E37*F37 -> 67.5
A38: огурцы свежие | D38: 0.03 | E38: 0 | F38: =ГПД!F37 -> 160 | G38: =E38*F38 -> 0
A39: лук репчатый | D39: 0.017 | E39: 0.3 | F39: =ГПД!F38 -> 55 | G39: =E39*F39 -> 16.5
A40: морковь | D40: 0.017 | E40: 0.3 | F40: =ГПД!F39 -> 65 | G40: =E40*F40 -> 19.5
A41: сахарный песок | D41: 0.003 | E41: 0.05 | F41: =ГПД!F40 -> 75 | G41: =E41*F41 -> 3.75
A42: масло растительное | D42: 0.01 | E42: 0.15 | F42: =ГПД!F41 -> 162.18 | G42: =E42*F42 -> 24.327
G46: =SUM(G10:G45) -> 1230.3288
G47: =G46/E9 -> 102.5274
